BEGIN:VCALENDAR
VERSION:2.0
PRODID:-//wp-events-plugin.com//5.99912//EN
TZID:Europe/Berlin
X-WR-TIMEZONE:Europe/Berlin
BEGIN:VEVENT
UID:6-11374@wandern.albverein.net
DTSTART;TZID=Europe/Berlin:20260530T100000
DTEND;TZID=Europe/Berlin:20260530T160000
DTSTAMP:20260423T115058Z
URL:https://wandern.albverein.net/events/fahrrad-sternfahrt-auf-den-filder
 n/
SUMMARY:Fahrrad-Sternfahrt auf den Fildern -  - 30 Mai 26 10:00
DESCRIPTION:\n\nSport und Bewegung\, gemeinsam unterwegs sein\, Einkehren u
 nd die Radler im Schwäbischen Albverein kennenlernen. Das ist das Motto d
 er Fahrrad-Sternfahrt auf den Fildern\, die auf zwei Routen von Echterding
 en zum Biergarten Schmellbachtal führt.\n\nTreffpunkt: 11:00 Uhr am Zeppe
 linstein in Echterdingen\n\nVon dort starten wir gemeinsam zu unserer Ster
 nausfahrt mit zwei Tour-Optionen:\n\n 	Genusstour – entspannt unterwegs 
 (ca. 20 km und 150-200 Hm)\n 	Aussichtsreich – etwas anspruchsvoller mit
  schönen Ausblicken (ca. 25 km und 250-300 Hm)\n\nBeide Touren dauern ca.
  1\,5 – 2 Stunden\n\nZiel bzw. zweiter Treffpunkt: 13:00 Uhr am Waldgast
 hof Schmellbachtal\n\nDort treffen wir uns\, lernen uns kennen und tausche
 n uns bei leckerem Essen und Trinken aus. Ladet gerne radinteressierte Fre
 unde und Bekannte mit ein\, indem ihr diese Infos weiterleitet. Alle sind 
 willkommen - wir freuen uns auf euch! &#x1f60a\;\n\nKontakt\, Anmeldung un
 d weitere Informationen unter fahrrad@schwaebischer-albverein.de.\n\n&nbsp
 \;
CATEGORIES:Wandern
END:VEVENT
BEGIN:VTIMEZONE
TZID:Europe/Berlin
X-LIC-LOCATION:Europe/Berlin
BEGIN:DAYLIGHT
DTSTART:20260329T030000
TZOFFSETFROM:+0100
TZOFFSETTO:+0200
TZNAME:CEST
END:DAYLIGHT
END:VTIMEZONE
END:VCALENDAR