BEGIN:VCALENDAR
VERSION:2.0
PRODID:-//wp-events-plugin.com//5.99912//EN
TZID:Europe/Berlin
X-WR-TIMEZONE:Europe/Berlin
BEGIN:VEVENT
UID:6-11170@wandern.albverein.net
DTSTART;TZID=Europe/Berlin:20260618T170000
DTEND;TZID=Europe/Berlin:20260618T200000
DTSTAMP:20251203T135735Z
URL:https://wandern.albverein.net/events/frauenspecial-befluegelt-gekroent
 -und-entspannt-2/
SUMMARY:FrauenSpecial: beflügelt\, gekrönt und entspannt - Parkplatz am F
 riedhof Frickenhausen - 18 Juni 26 17:00
DESCRIPTION:\n\n\n\n\nSind wir Frauen nicht alle Engel ohne Flügel?\n\nBei
  dieser Nachmittagsrunde werden wir die Natur mit allen Sinnen genießen\,
  mit anderen flügellosen Engeln entspannt spazieren gehen und dabei die S
 eele baumeln lassen.\nDiese Tour ist nur für Frauen geeignet.\n\n\n\n\nBi
 tte bringen Sie ein Sitzkissen und die schönste Tasse aus Ihrem Schrank m
 it\, denn eine kleine Teezeremonie mit Gebäck rundet das Bad der Sinne ab
 .\n\nBitte denken Sie an Getränke für unterwegs\, witterungsangepasste K
 leidung\, Sonnenschutz und Wanderschuhe.\n\n\n\nTreffpunkt: 17.00 Uhr\, Pa
 rkplatz am Friedhof\, Hölzlachstraße\, 72636 Frickenhausen\n\nDauer: bis
  ca. 20.00 Uhr\n\nStrecke: 5 km\n\nReine Gehzeit: 1\,5 Std.\n\nAuf- und Ab
 stiege: 160 m\n\nSchwierigkeitsgrad: leicht\n\nRundwanderung\n\nTeilnehmer
 beitrag: für Mitglieder 9 €\, für Nichtmitglieder 19 €\nZusätzliche
  Kosten: für die Teezeremonie 8 € pro Person.\nZur Info: Die anfallende
 n Kosten werden von der Wanderführerin vor Ort eingesammelt.\n\nAnmeldung
 : erforderlich bis zum 15. Juni 2026\n\nKontakt: Regine Erb\, 07025 843655
 \, jura-guide@gmx.com
CATEGORIES:Wandern
LOCATION:Parkplatz am Friedhof Frickenhausen\, Hölzlachstraße\, Frickenha
 usen\, Deutschland
GEO:48.588702;9.356701
X-APPLE-STRUCTURED-LOCATION;VALUE=URI;X-ADDRESS=Hölzlachstraße\, Frickenh
 ausen\, Deutschland;X-APPLE-RADIUS=100;X-TITLE=Parkplatz am Friedhof Frick
 enhausen:geo:48.588702,9.356701
END:VEVENT
BEGIN:VTIMEZONE
TZID:Europe/Berlin
X-LIC-LOCATION:Europe/Berlin
BEGIN:DAYLIGHT
DTSTART:20260329T030000
TZOFFSETFROM:+0100
TZOFFSETTO:+0200
TZNAME:CEST
END:DAYLIGHT
END:VTIMEZONE
END:VCALENDAR