BEGIN:VCALENDAR
VERSION:2.0
PRODID:-//wp-events-plugin.com//5.99912//EN
TZID:Europe/Berlin
X-WR-TIMEZONE:Europe/Berlin
BEGIN:VEVENT
UID:6-11171@wandern.albverein.net
DTSTART;TZID=Europe/Berlin:20261114T093000
DTEND;TZID=Europe/Berlin:20261114T123000
DTSTAMP:20251203T135447Z
URL:https://wandern.albverein.net/events/frauenspecial-befluegelt-gekroent
 -und-entspannt-3/
SUMMARY:FrauenSpecial: Beflügelt\, gekrönt und entspannt - Otto-Maisch-Ha
 lle\, Frickenhausen-Linsenhofen - 14 Nov. 26 09:30
DESCRIPTION:\n\n\n\n\nSind wir Frauen nicht alle Engel ohne Flügel?\n\nBei
  dieser Nachmittagsrunde werden wir die Natur mit allen Sinnen genießen\,
  mit anderen flügellosen Engeln entspannt spazieren gehen und dabei die S
 eele baumeln lassen.\nDiese Tour ist nur für Frauen geeignet.\n\n\n\n\nBi
 tte bringen Sie ein Sitzkissen und die schönste Tasse aus Ihrem Schrank m
 it\, denn eine kleine Teezeremonie mit Gebäck rundet das Bad der Sinne ab
 .\n\nBitte denken Sie an Getränke für unterwegs\, witterungsangepasste K
 leidung\, Sonnenschutz und Wanderschuhe.\n\n\n\nTreffpunkt: 9.30 Uhr\, Ott
 o-Maisch-Halle\, Im Käppele 29\, 72636 Frickenhausen-Linsenhofen\n\nDauer
 : bis ca. 12.30 Uhr\n\nStrecke: 5 km\n\nReine Gehzeit: 1\,5 Std.\n\nAuf- u
 nd Abstiege: 100 m\n\nSchwierigkeitsgrad: leicht\n\nRundwanderung\n\nTeiln
 ehmerbeitrag: für Mitglieder 9 €\, für Nichtmitglieder 19 €\nZur Inf
 o: Die anfallenden Kosten werden von der Wanderführerin vor Ort eingesamm
 elt.\n\nAnmeldung: erforderlich bis zum 10. November 2026\n\nKontakt: Regi
 ne Erb\, 07025 843655\, jura-guide@gmx.com
CATEGORIES:Wandern
LOCATION:Otto-Maisch-Halle\, Frickenhausen-Linsenhofen\, Im Käppele 29\, F
 rickenhausen-Linsenhofen\, Deutschland
GEO:48.5827;9.374739999999974
X-APPLE-STRUCTURED-LOCATION;VALUE=URI;X-ADDRESS=Im Käppele 29\, Frickenhau
 sen-Linsenhofen\, Deutschland;X-APPLE-RADIUS=100;X-TITLE=Otto-Maisch-Halle
 \, Frickenhausen-Linsenhofen:geo:48.5827,9.374739999999974
END:VEVENT
BEGIN:VTIMEZONE
TZID:Europe/Berlin
X-LIC-LOCATION:Europe/Berlin
BEGIN:STANDARD
DTSTART:20261025T020000
TZOFFSETFROM:+0200
TZOFFSETTO:+0100
TZNAME:CET
END:STANDARD
END:VTIMEZONE
END:VCALENDAR