BEGIN:VCALENDAR
VERSION:2.0
PRODID:-//wp-events-plugin.com//5.99912//EN
TZID:Europe/Berlin
X-WR-TIMEZONE:Europe/Berlin
BEGIN:VEVENT
UID:6-11172@wandern.albverein.net
DTSTART;TZID=Europe/Berlin:20260519T100000
DTEND;TZID=Europe/Berlin:20260520T180000
DTSTAMP:20260413T130558Z
URL:https://wandern.albverein.net/events/frauenspecial-kunstspur-lautertal
 -kreativwandern-fuer-frau/
SUMMARY:FrauenSpecial: KunstSpur Lautertal - Kreativwandern für Frau - abg
 esagt! - Parkplatz Museum Anton Geiselhart - 19 Mai 26 10:00
DESCRIPTION:\nMUSEUM+STIFTUNG\nANTON GEISELHART\n\nErlebe zwei besondere Ta
 ge im wunderschönen Lautertal und in der Stiftung Anton Geiselhart – kr
 eativ\, aktiv und ganz unter Frauen! Auf der KunstSpur lernst du Motive mi
 t der Schablonendrucktechnik zu gestalten – ganz ohne Vorkenntnisse.\nDa
 zu wandern wir entspannt zur Burg Derneck und auf den Hohengundelfingen\, 
 genießen Natur\, frische Luft und gute Gesellschaft. Lass dich inspiriere
 n\, bring Farbe in dein Leben und finde deine eigene kreative Spur!\nWasse
 r\, Kaffee und Snacks sind inklusive.\n\nEin gut gepackter Rucksack mit Ve
 rpflegung und ausreichend Getränken ist ein Muss\, um die Energiereserven
  aufrechtzuerhalten. Und natürlich sind witterungsangepasste Kleidung\, r
 obuste Wanderschuhe und Sonnenschutz entscheidend für Komfort und Sicherh
 eit unterwegs. Mit all diesen Vorbereitungen steht einem unbeschwerten Tag
  nichts im Wege!\n\nBitte beachten:\nAdressen für Übernachtungsmöglichk
 eiten können vermittelt werden.\n\n\n\nTreffpunkt: täglich 10.00 Uhr\, M
 useum Anton Geiselhart\, Am Bürzel 1\,\n72525 Münsingen-Gundelfingen\n\n
 ÖPNV: leider nicht möglich\n\nDauer: täglich bis ca. 18.00 Uhr\n\nStrec
 ke: täglich 5 km\n\nReine Gehzeit: täglich 1\,5 Std.\n\nAuf- und Abstieg
 e: 150 m\n\nSchwierigkeitsgrad: leicht\n\nStrecken / Rundwanderung\n\nTeil
 nehmerbeitrag: für Mitglieder des SAV 200 €\, für Nichtmitglieder 240 
 €\nZusätzliche Kosten: Zusätzliche MAterialwünsche\, Leinwand etc. we
 rden gesondert in Rechnung gestellt.\n\nZusätzliche Kosten: fallen keine 
 an\n\nAnmeldung: erforderlich bis zum 1. März 2026 unter\nwandern@schwaeb
 ischer-albverein.de\nTeilnehmerinnenzahl begrenzt\n\nKontakt: Regine Erb\,
  jura-guide@gmx.com
CATEGORIES:Wandern
LOCATION:Parkplatz Museum Anton Geiselhart\, Am Bürzel 1\, Münsingen-Gund
 elfingen\, 72525\, Deutschland
GEO:48.323025;9.502022
X-APPLE-STRUCTURED-LOCATION;VALUE=URI;X-ADDRESS=Am Bürzel 1\, Münsingen-G
 undelfingen\, 72525\, Deutschland;X-APPLE-RADIUS=100;X-TITLE=Parkplatz Mus
 eum Anton Geiselhart:geo:48.323025,9.502022
END:VEVENT
BEGIN:VTIMEZONE
TZID:Europe/Berlin
X-LIC-LOCATION:Europe/Berlin
BEGIN:DAYLIGHT
DTSTART:20260329T030000
TZOFFSETFROM:+0100
TZOFFSETTO:+0200
TZNAME:CEST
END:DAYLIGHT
END:VTIMEZONE
END:VCALENDAR