BEGIN:VCALENDAR
VERSION:2.0
PRODID:-//wp-events-plugin.com//5.99912//EN
TZID:Europe/Berlin
X-WR-TIMEZONE:Europe/Berlin
BEGIN:VEVENT
UID:6-11001@wandern.albverein.net
DTSTART;TZID=Europe/Berlin:20261017T090000
DTEND;TZID=Europe/Berlin:20261018T160000
DTSTAMP:20251223T073657Z
URL:https://wandern.albverein.net/events/gemeinsam-unterwegs-feiern-wo-bad
 en-wuerttemberg-begann/
SUMMARY:Gemeinsam unterwegs - Feiern\, wo Baden-Württemberg begann -  - 17
  Okt. 26 09:00
DESCRIPTION:Am 17./18. Oktober 2026 rund um den Hohenneuffen. Zu diesem gem
 einsamen Wanderwochenende sind Albvereinler und Schwarzwaldvereinler herzl
 ich eingeladen\, auf dem Hohenneuffen\, der Wiege Baden-Württembergs\, da
 s 25jährige Jubiläum der Heimat- und Wanderakademie zu feiern.\n\nZu die
 sem gemeinsamen Wanderwochenende sind alle Mitglieder des Schwäbischen Al
 bvereins und des Schwarzwaldvereins herzlich eingeladen\, auf dem Hohenneu
 ffen\, der Wiege Baden-Württembergs\, das 25jährige Jubiläum der Heimat
 - und Wanderakademie zu feiern. Die Veranstaltung soll auch dazu dienen\, 
 dass sich Mitglieder der beiden großen Wandervereine in Baden-Württember
 g treffen\, miteinander wandern\, Erlebnisse teilen und Kontakte knüpfen 
 können.\n\n \n\nProgrammablauf:\n\nSamstag\, 17. Oktober 2026\n\n10.00 U
 hr          Tour 1 Albtrauf-Panorama: Hoch\, runter\, glücklich 
 (sportlich ab Neuffen)\n\n11.00 Uhr          Tour 2 Genussrunde 
 über’m Albtrauf (gemütlich ab Erkenbrechtsweiler)\n\n14.30 Uhr    
       Treffpunkt auf der Burg Hohenneuffen\n\n15.30 Uhr       
    Kleine Zeitreise mit Gisela und Helga. Beide waren 1948 vor Ort mitte
 n\nim Geschehen und können aus dem Nähkästchen plaudern\, was sich\nbei
  der Dreiländerkonferenz am 2. August 1948 zugetragen hat.\n\n18.30 Uhr 
          Albabend: Gemeinsam essen &amp\; genießen in Grabenstett
 en\n\n \n\nSonntag\, 18. Oktober 2026\n\n09.00 Uhr          Tour
  3 Tour de Alb – die E-Bike-Herausforderung\n(sportlich auf zwei Rädern
  ab Neuffen)\n\nTour 4 Bassgeige &amp\; mehr – Höhenmeter inklusive\n(s
 portliche Wanderung ab Erkenbrechtsweiler)\n\nTour 5 Rund um die Bassgeige
  – entspannt genießen\n(gemütliche Wanderung ab Erkenbrechtsweiler)\n\
 n12.00 Uhr          Zum Abschluss treffen sich alle Gruppen am Gr
 illplatz. Getränke und\neine Rote zum Selbergrillen stehen gegen Unkosten
 beitrag bereit.
CATEGORIES:Wandern
END:VEVENT
BEGIN:VTIMEZONE
TZID:Europe/Berlin
X-LIC-LOCATION:Europe/Berlin
BEGIN:DAYLIGHT
DTSTART:20260329T030000
TZOFFSETFROM:+0100
TZOFFSETTO:+0200
TZNAME:CEST
END:DAYLIGHT
END:VTIMEZONE
END:VCALENDAR