BEGIN:VCALENDAR
VERSION:2.0
PRODID:-//wp-events-plugin.com//5.99912//EN
TZID:Europe/Berlin
X-WR-TIMEZONE:Europe/Berlin
BEGIN:VEVENT
UID:6-11373@wandern.albverein.net
DTSTART;TZID=Europe/Berlin:20260512T100000
DTEND;TZID=Europe/Berlin:20260512T113000
DTSTAMP:20260421T175018Z
URL:https://wandern.albverein.net/events/gesundheitswanderung-in-der-stutt
 garter-stadtmitte-2/
SUMMARY:Gesundheitswanderung in der Stuttgarter Stadtmitte - Stuttgart Musi
 kpavillion - 12 Mai 26 10:00
DESCRIPTION:\n\nWandern tut Körper und Seele gut und eine Gesundheitswande
 rung verbindet Wandern mit Übungen\, die Spaß machen\, Geselligkeit und 
 Naturgenuß.\n\nDas geht auch mitten in Stuttgart. Neugierig geworden? Dan
 n kommen Sie zur Gesundheitswanderung mit Gesundheitswanderführerin Karin
  Kunz.\nWeitere Informationen findet man hier.\n\nTreffpunkt 12. Mai\, 10.
 00 Uhr am Musikpavillion am Schlossplatz (Stuttgart)\n\nAnmeldung erforder
 lich bis 10. Mai\, 15 Uhr an kkunz@schwaebischer-albverein.de Mindestteiln
 ehmendenzahl: 5 Personen
CATEGORIES:Wandern
LOCATION:Stuttgart Musikpavillion\, Schlossplatz\, Stuttgart\, Deutschland
GEO:48.778344;9.180632
X-APPLE-STRUCTURED-LOCATION;VALUE=URI;X-ADDRESS=Schlossplatz\, Stuttgart\, 
 Deutschland;X-APPLE-RADIUS=100;X-TITLE=Stuttgart Musikpavillion:geo:48.778
 344,9.180632
END:VEVENT
BEGIN:VTIMEZONE
TZID:Europe/Berlin
X-LIC-LOCATION:Europe/Berlin
BEGIN:DAYLIGHT
DTSTART:20260329T030000
TZOFFSETFROM:+0100
TZOFFSETTO:+0200
TZNAME:CEST
END:DAYLIGHT
END:VTIMEZONE
END:VCALENDAR