BEGIN:VCALENDAR
VERSION:2.0
PRODID:-//wp-events-plugin.com//5.99912//EN
TZID:Europe/Berlin
X-WR-TIMEZONE:Europe/Berlin
BEGIN:VEVENT
UID:6-10935@wandern.albverein.net
DTSTART;TZID=Europe/Berlin;VALUE=DATE:20260510
DTEND;TZID=Europe/Berlin;VALUE=DATE:20260518
DTSTAMP:20251208T083034Z
URL:https://wandern.albverein.net/events/mehrtageswandern-8-tage-tour/
SUMMARY:Mehrtageswandern: 8-Tage Tour durch die Naturparke Heuchelberg-Stro
 mberg -  - 10 Mai 26 00:00
DESCRIPTION:8-Tage-Tour mit Gepäcktransport von Hotel zu Hotel durch die N
 aturparke "Heuchelberg - Stromberg"\, "Odenwald" und im Neckartal zum Heid
 elberger Schloss.\n\nhttps://lustaufteck.de/wanderkalender-2026\n\n\n\nTre
 ffpunkt: Bietigheim-Bissingen\n\nStrecke: 179 km\n\nAnmeldung nur auf Wart
 eliste!\n\nKontakt: Dieter Bounin\, ichhabe@lustaufteck.de
CATEGORIES:Wandern
END:VEVENT
BEGIN:VTIMEZONE
TZID:Europe/Berlin
X-LIC-LOCATION:Europe/Berlin
BEGIN:DAYLIGHT
DTSTART:20260329T030000
TZOFFSETFROM:+0100
TZOFFSETTO:+0200
TZNAME:CEST
END:DAYLIGHT
END:VTIMEZONE
END:VCALENDAR