BEGIN:VCALENDAR
VERSION:2.0
PRODID:-//wp-events-plugin.com//5.99912//EN
TZID:Europe/Berlin
X-WR-TIMEZONE:Europe/Berlin
BEGIN:VEVENT
UID:6-10929@wandern.albverein.net
DTSTART;TZID=Europe/Berlin;VALUE=DATE:20260614
DTEND;TZID=Europe/Berlin;VALUE=DATE:20260622
DTSTAMP:20251201T083922Z
URL:https://wandern.albverein.net/events/mehrtageswandern-alpenueberquerun
 g/
SUMMARY:Wandern +plus+: Alpenüberquerung - Bahnhof Gmund - 14 Juni 26 00:0
 0
DESCRIPTION:\n\nZu Fuß über die Alpen - das ist möglich!\n\nDiese Überq
 uerung startet am Tegernsee und führt in sieben Etappen nach Sterzing. Wi
 r kommen am Achensee vorbei und wandern weiter in Richtung Zillertal. Durc
 h Mayrhofen geht's weiter Richtung Sterzing. Eine der Etappen hat 19 km un
 d überwindet 900 hm\, sie ist die schwerste auf der Alpenüberquerung. Es
  besteht die Möglichkeit bei der Wegstrecke flexibel zu sein\, etwas lang
 weilige Wegabschnitte werden wir mit Bus oder Bahn zurücklegen.\n\nWir ü
 bernachten in Hotels\, Pensionen und Gasthöfen\, die selbst gebucht werde
 n müssen. Bitte zur Abstimmung mit dem Wanderführer in Verbindung setzen
 . Einen Gepäcktransport gibt es nicht. Jeder trägt sein Gepäck selber. 
 Diese Alpenüberquerung verläuft auf leichten bis mittelschweren Wegen. I
 m Vergleich zu anderen Überquerungen ist sie problemlos zu bewältigen.\n
 \n\n\nTreffpunkt: am Sonntag\, 14. Juni 2026 um 10.30 Uhr am Bahnhof Gmund
 \,\nWiesseer Str. 11\, 83703 Gmund\n\nDauer: 7 Tage\, bis 21. Juni 2026\n\
 nStrecke: 115 km in 7 Tagesetappen zwischen 6 und 19 km pro Tag\nEine der 
 Etappen ist 19 km lang und überwindet 900 hm.\n\n\nReine Gehzeit: insgesa
 mt ca. 55 Std.\, täglich 3\,5 - 6 Std.\n\nAuf- und Abstiege: zwischen 150
  - 900 hm pro Tag\,\ninsgesamt Aufstiege: 3400 hm\, Abstiege: 3900 hm\n\nS
 chwierigkeitsgrad: mittelschwere Bergwanderung\n\nStreckenwanderung: Die H
 eimfahrt von Sterzing erfolgt mit Bahn oder Bus\n\nKosten für Planung\, O
 rganisation\, Führung\, 1 x Busfahrt\, Gruppenversicherung:\nfür Mitglie
 der 200 Euro (für die Führung)\nfür Nichtmitglieder 320 Euro (inkl. Gru
 ppenversicherung)\nZuzüglich Kosten für Übernachtung/Verpflegung sowie 
 Fahrtkosten\n\nWeitere Infos\, Kontakt und Anmeldung: Peter Eiler\, 0170 1
 492776\, eiler.p@t-online.de\n\n&nbsp\;
CATEGORIES:Wandern
LOCATION:Bahnhof Gmund\, Wiesseer Straße 11\, Gmund\, 88703\, Deutschland
GEO:47.74998;11.735557
X-APPLE-STRUCTURED-LOCATION;VALUE=URI;X-ADDRESS=Wiesseer Straße 11\, Gmund
 \, 88703\, Deutschland;X-APPLE-RADIUS=100;X-TITLE=Bahnhof Gmund:geo:47.749
 98,11.735557
END:VEVENT
BEGIN:VTIMEZONE
TZID:Europe/Berlin
X-LIC-LOCATION:Europe/Berlin
BEGIN:DAYLIGHT
DTSTART:20260329T030000
TZOFFSETFROM:+0100
TZOFFSETTO:+0200
TZNAME:CEST
END:DAYLIGHT
END:VTIMEZONE
END:VCALENDAR