BEGIN:VCALENDAR
VERSION:2.0
PRODID:-//wp-events-plugin.com//5.99912//EN
TZID:Europe/Berlin
X-WR-TIMEZONE:Europe/Berlin
BEGIN:VEVENT
UID:6-11359@wandern.albverein.net
DTSTART;TZID=Europe/Berlin:20260905T070000
DTEND;TZID=Europe/Berlin:20260910T180000
DTSTAMP:20260416T113754Z
URL:https://wandern.albverein.net/events/mehrtageswanderungen-peter-habele
 r-runde/
SUMMARY:Mehrtageswanderungen: Peter Habeler Runde - Reudern\, Ehrenmal - 5 
 Sep. 26 07:00
DESCRIPTION:\n\nDie Peter-Habeler-Runde ist nach jenem Bergsteiger benannt\
 , der gemeinsam mit Reinhold Messner als erster den Mount Everest ohne kü
 nstlichen Sauerstoff bestiegen hat. Die Tour bietet neben mehreren Gipfel
 überschreitungen vor allem sensationelle Ausblicke in die Zillertaler Alp
 en. Aber Vorsicht: Diese Runde ist nichts für Anfänger oder Menschen mit
  wenig Kondition. Alpine Erfahrung ist quasi Pflicht. Interessant ist auch
  die Tatsache\, dass diese Tour durch streng geschützte Gebiete führt. D
 urch den Hochgebirgsnaturpark Zillertaler Alpen und das Naturschutzgebiet 
 Valsertal.\n\nAnspruchsvolle alpine Wanderung für erfahrene Bergsteiger i
 n den Zillertaler Alpen in Tirol. Es findet ein zeitnahes Vortreffen stat
 t\, um die geplante Tour im einzelnen zu besprechen. Dabei wird auch bespr
 ochen\, was in den Rucksack gepackt werden muss. Dazu gehören auf jeden F
 all  Verpflegung und ausreichend Getränke für tagsüber.\nUnd natürlic
 h sind witterungsangepasste Kleidung\, robuste Wanderschuhe und Sonnen- un
 d Regenschutz entscheidend für Komfort und Sicherheit unterwegs.\n\n\n\n\
 nTreffpunkt: Samstag 05.09.2026  um 7.00 Uhr in 72622 Reudern Ehrenmal H
 ülenbergstrasse zur Bildung von Fahrgemeinschaften.\n\nDauer: bis Donners
 tag\, 10.09.2026 um 18 Uhr\n\nStrecke: 56\,5 km in fünf Etappen\, d.h. t
 äglich 13\,5 - 18 km\n\nReine Gehzeit: 36 Std.\, in fünf Etappen\, d.h. 
 täglich 5 - 8 Std.\n\nAufstiege insgesamt auf der ganzen Strecke: 4988\, 
 Abstiege: 4980 m\n\nSchwierigkeitsgrad: anspruchsvoll\n\nStreckenwanderung
 \n\nEinkehr: vier Hüttenübernachtungen und zum Abschluss eine Hotelüber
 nachtung in Steinach am Brenner.\n\nTeilnehmerbeitrag: Fahrtkosten\, inkl
 . Mautgebühren\, 4 Übernachtungen in Lagern bzw. Mehrbettzimmern auf den
  einzelnen Hütten mit 2x Halbpersion\, eine Hotelübernachtung im Doppelz
 immer in Steinach am Brenner.\nKosten insgesamt 370 € für Mitglieder\, 
 470 € für Nichtmitglieder.\n\nAnmeldung: erforderlich bis zum 31. Juli 
 2026\, max. 12 Teilnehmer*innen\n\nKontakt: Harald Wanie\, 07022 939454\, 
 harald.wanie@t-online.de
CATEGORIES:Wandern
LOCATION:Reudern\, Ehrenmal\, Hülenbergstr. \, Reudern\, 72622\, Deutschla
 nd
GEO:48.627246;9.391441
X-APPLE-STRUCTURED-LOCATION;VALUE=URI;X-ADDRESS=Hülenbergstr. \, Reudern\,
  72622\, Deutschland;X-APPLE-RADIUS=100;X-TITLE=Reudern\, Ehrenmal:geo:48.
 627246,9.391441
END:VEVENT
BEGIN:VTIMEZONE
TZID:Europe/Berlin
X-LIC-LOCATION:Europe/Berlin
BEGIN:DAYLIGHT
DTSTART:20260329T030000
TZOFFSETFROM:+0100
TZOFFSETTO:+0200
TZNAME:CEST
END:DAYLIGHT
END:VTIMEZONE
END:VCALENDAR