BEGIN:VCALENDAR
VERSION:2.0
PRODID:-//wp-events-plugin.com//5.99912//EN
TZID:Europe/Berlin
X-WR-TIMEZONE:Europe/Berlin
BEGIN:VEVENT
UID:6-11100@wandern.albverein.net
DTSTART;TZID=Europe/Berlin:20260515T100000
DTEND;TZID=Europe/Berlin:20260515T130000
DTSTAMP:20260325T090512Z
URL:https://wandern.albverein.net/events/naturwandern-blumenwiesen-wasserm
 aerchen/
SUMMARY:Naturwandern - Blumenwiesen: Wassermärchen in Waiblingen-Bittenfel
 d - Bushaltestelle Rienzhofer Mühle - 15 Mai 26 10:00
DESCRIPTION:\n\nVon Bittenfeld nach Poppenweiler folgen wir dem Zipfelbach\
 , mal näher\, mal entfernter. Begleiten werden uns Wassermärchen\, die u
 ns auf ihre ganz eigene Art die Wichtigkeit von Wasser verdeutlicht. Auf d
 iesem gemütlichen Weg lassen wir uns verzaubern und entdecken einen wenig
  bekannten Bachlauf.\n\nEin gut gepackter Rucksack mit Verpflegung und aus
 reichend Getränken ist ein Muss\, um die Energiereserven aufrechtzuerhalt
 en. Und natürlich sind witterungsangepasste Kleidung\, robuste Wanderschu
 he und Sonnenschutz entscheidend für Komfort und Sicherheit unterwegs. Mi
 t all diesen Vorbereitungen steht einer unbeschwerten Wanderung nichts im 
 Wege!\n\n\n&lt\;a href="https://www.flaticon.com/free-icons/flower" title=
 "flower icons"&gt\;Flower icons created by MindWorlds - Flaticon&lt\;/a&gt
 \;\n\nTreffpunkt: 10.00 Uhr\, Haltestelle Rienzhofermühle\, Bus 201\, 713
 36 Waiblingen-Bittenfeld\n\nÖPNV: ist möglich\n\nDauer: bis ca.13.00 Uhr
 \n\nStrecke: 5\,85 km\n\nReine Gehzeit: 2 Std.\n\nAufstiege: 10 m\, Abstie
 ge: 50 m\n\nSchwierigkeitsgrad: leicht\n\nStreckenwanderung\n\nEinkehr: is
 t nicht vorgesehen\n\nTeilnehmerbeitrag: für Mitglieder kostenlos\, für 
 Nichtmitglieder 10 €\nZur Info: Die anfallenden Kosten werden von der Wa
 nderführerin vor Ort eingesammelt.\n\nZusätzliche Kosten: fallen keine a
 n\n\nAnmeldung: erforderlich bis zum bis zum XXX.2026\n\nKontakt: Petra Ha
 skell\, petra.haskell@web.de
CATEGORIES:Wandern
LOCATION:Bushaltestelle Rienzhofer Mühle\, Schillerstraße\, Waiblingen-Bi
 ttenfeld\, 71336\, Deutschland
GEO:48.884834;9.315385
X-APPLE-STRUCTURED-LOCATION;VALUE=URI;X-ADDRESS=Schillerstraße\, Waiblinge
 n-Bittenfeld\, 71336\, Deutschland;X-APPLE-RADIUS=100;X-TITLE=Bushaltestel
 le Rienzhofer Mühle:geo:48.884834,9.315385
END:VEVENT
BEGIN:VTIMEZONE
TZID:Europe/Berlin
X-LIC-LOCATION:Europe/Berlin
BEGIN:DAYLIGHT
DTSTART:20260329T030000
TZOFFSETFROM:+0100
TZOFFSETTO:+0200
TZNAME:CEST
END:DAYLIGHT
END:VTIMEZONE
END:VCALENDAR