BEGIN:VCALENDAR
VERSION:2.0
PRODID:-//wp-events-plugin.com//5.99912//EN
TZID:Europe/Berlin
X-WR-TIMEZONE:Europe/Berlin
BEGIN:VEVENT
UID:6-11016@wandern.albverein.net
DTSTART;TZID=Europe/Berlin:20260912T093000
DTEND;TZID=Europe/Berlin:20260912T163000
DTSTAMP:20251020T075013Z
URL:https://wandern.albverein.net/events/ue-30-wandern-die-koenigstour-der
 -traufgaenge-der-felsenmeersteig/
SUMMARY:Ü30 Wandern: Die Königstour der Traufgänge - der Felsenmeersteig
  - Parkplatz Sportplatz Lautlingen - 12 Sep. 26 09:30
DESCRIPTION:\n\nÜ30-Wanderung: Für alle rund um 30 bis in die Fünfziger!
 \nEine aufregende Wanderreise auf dem Premium-Rundwanderweg Felsenmeerstei
 g - magische Wälder\, traumhafte Aussichten\, zauberhafte Wacholderheiden
 \, gigantische Mammutbäume\, eine Burgruine und ein sensationelles Felsen
 meer.\nWer Lust auf eine Wanderung mit Wow-Effekt hat\, ist auf dem Felsen
 meersteig genau richtig. Der längste der Traufgänge bietet nicht nur spo
 rtliche Abwechslung\, sondern auch jede Menge Naturkino – inklusive Pano
 ramablick vom Böllat\, einem imposanten Felsplateau mit freier Sicht übe
 r das Albvorland. Bei klarer Sicht reicht der Blick sogar bis zum Schwarzw
 ald. Einfach stehen bleiben\, durchatmen – und genießen.\nDer Weg führ
 t durch eine beeindruckende Landschaft mit steilen Felswänden\, lichten W
 äldern und offenen Höhen. Immer wieder eröffnen sich neue Perspektiven 
 – perfekt für alle\, die gerne draußen unterwegs sind und ihre Akkus i
 n der Natur aufladen. Einer der Höhepunkte der Tour ist die ehemalige Sc
 halksburg. Der restaurierte Turm lädt zum kurzen Aufstieg über eine Wend
 eltreppe ein – oben angekommen\, wartet eine tolle Aussicht und ein Hauc
 h Mittelalter-Flair.\nNamensgeber und echtes Naturhighlight ist das Felsen
 meer – riesige\, moosbewachsene Felsblöcke mitten im Wald\, wild verstr
 eut und fast schon mystisch. Ein Ort zum Staunen und Innehalten – oder u
 m einfach mal ein cooles Foto zu machen.\nDer Felsenmeersteig kombiniert B
 ewegung\, Ausblick und kleine Abenteuer – genau das Richtige für alle\,
  die draußen zuhause sind.\nEin gut gepackter Rucksack mit Verpflegung un
 d ausreichend Getränken sowie witterungsangepasste Kleidung und eingelauf
 ene Wanderstiefel mit gutem Profil sind Voraussetzungen für eine sichere 
 Wanderung. Die Nutzung von Wanderstöcken wird empfohlen.\n\n\n\nTreffpunk
 t: 9.30 Uhr\, Parkplatz Sportplatz Lautlingen\nUTM: 32U 0497042 5340420\n\
 nÖPNV: Bahnhof Albstadt-Lautlingen\, 600 m bis zum Parkplatz Sportplatz L
 autlingen\n\nDauer: bis ca. 16.30 Uhr\n\nStrecke: 18 km\n\nReine Gehzeit: 
 4\,5 Std.\n\nAuf- und Abstiege: 700 m\n\nSchwierigkeitsgrad: anspruchsvoll
 \n\nRundwanderung\n\nEinkehr: Schlusseinkehr nach Absprache\n\nTeilnehmerb
 eitrag: für Mitglieder kostenlos\, für Nichtmitglieder 10 €\nZur Info:
  Die anfallenden Kosten werden vom Wanderführer vor Ort eingesammelt.\n\n
 Zusätzliche Kosten: evtl. ÖPNV und individuelle eigene Kosten für mögl
 iche Speisen und Getränke bei der Schlusseinkehr\n\nAnmeldung: erforderli
 ch bis zum 8. September 2026 per E-Mail oder WhatsApp mit Angabe von Vor- 
 und Zuname\, Geburtsjahr sowie Handy-Nummer und E-Mail-Adresse\,\nTeilnehm
 erzahl begrenzt\n\nKontakt: Sebastian und Simone Hatz\, 0152 34370165\, se
 bastian.hatz@googlemail.com
CATEGORIES:Wandern
LOCATION:Parkplatz Sportplatz Lautlingen\, Mühlgasse\, Albstadt-Lautlingen
 \, 72459\, Deutschland
GEO:48.217167;8.959198
X-APPLE-STRUCTURED-LOCATION;VALUE=URI;X-ADDRESS=Mühlgasse\, Albstadt-Lautl
 ingen\, 72459\, Deutschland;X-APPLE-RADIUS=100;X-TITLE=Parkplatz Sportplat
 z Lautlingen:geo:48.217167,8.959198
END:VEVENT
BEGIN:VTIMEZONE
TZID:Europe/Berlin
X-LIC-LOCATION:Europe/Berlin
BEGIN:DAYLIGHT
DTSTART:20260329T030000
TZOFFSETFROM:+0100
TZOFFSETTO:+0200
TZNAME:CEST
END:DAYLIGHT
END:VTIMEZONE
END:VCALENDAR