BEGIN:VCALENDAR
VERSION:2.0
PRODID:-//wp-events-plugin.com//5.99912//EN
TZID:Europe/Berlin
X-WR-TIMEZONE:Europe/Berlin
BEGIN:VEVENT
UID:6-11028@wandern.albverein.net
DTSTART;TZID=Europe/Berlin:20261205T110000
DTEND;TZID=Europe/Berlin:20261205T170000
DTSTAMP:20251020T123206Z
URL:https://wandern.albverein.net/events/ue30-wandern-adventswanderung-zum
 -esslinger-weihnachtsmarkt/
SUMMARY:Ü30 Wandern: Adventswanderung zum Esslinger Weihnachtsmarkt - P &a
 mp\; R Parkhaus Echterdingen - 5 Dez. 26 11:00
DESCRIPTION:\n\nÜ30-Wanderung: Für alle rund um 30 bis in die Fünfziger!
 \n\nGemütliche Streckenwanderung von den Fildern bis mitten ins Herz von 
 Esslingen - mit stimmungsvollen Adventsmomenten\, einem Abstecher durch de
 n Hohenheimer Park\, grandiosen Ausblicken und Finale auf dem Weihnachtsma
 rkt in Esslingen.\n\nPack die Mütze ein\, schnür die Wanderschuhe – un
 sere Adventstour startet direkt am Bahnhof Echterdingen! Von dort geht’s
  raus aufs weite Feld der Filderebene\, wo der Blick frei schweifen kann u
 nd frische Winterluft um die Nase weht.\n\nBald tauchen wir in das Natursc
 hutzgebiet Weidach- und Zettachwald ein. Zwischen alten Bäumen und sanfte
 n Wegen überqueren wir die Körsch – Stuttgarts zweitgrößtes Gewässe
 r\, das hier ganz ruhig vor sich hin plätschert.\n\nWeiter geht’s nach 
 Hohenheim. Ein kurzer Stopp im Schlosspark muss sein – barocke Gartenkun
 st trifft Winterruhe. Danach führt uns der Weg mitten hinein in den still
 en Häslachwald. Nur das Knirschen unter den Schuhen und das Schnauben der
  Pferde auf den nahen Weiden begleiten uns. Ein besonderes Highlight: die 
 Hofer Mühle\, 1566 erbaut\, einst königliches Arabergestüt – heute ei
 n Ort\, der Geschichte atmet.\n\nHinter dem Scharnhauser Park beginnt der 
 Endspurt – und der hat es in sich: Der Weg führt bergab\, und plötzlic
 h liegt uns das Neckartal zu Füßen. Der Blick auf Esslingen ist einfach 
 wow! Ein echtes Postkartenmotiv!\n\nAngekommen in der mittelalterlichen Al
 tstadt wartet der krönende Abschluss: der Weihnachtsmarkt! Lichterglanz\,
  Lebkuchenduft und Glühweinwärme. Wer mag\, bleibt noch\, stößt mit un
 s an auf eine gelungene Winterwanderung und lässt den Tag gemeinsam auskl
 ingen.\n\nEin gut gepackter Rucksack mit Verpflegung und ausreichend Getr
 änken sowie witterungsangepasste Kleidung und eingelaufene Wanderschuhe m
 it gutem Profil sind Voraussetzungen für eine sichere Wanderung. Die Nutz
 ung von Wanderstöcken kann hilfreich sein.\n\n\n\nTreffpunkt: 11.00 Uhr\,
  P &amp\; R Parkhaus Bahnhof Echterdingen\, In den Gärtlesäckern 45\,\n7
 0771 L-Echterdingen\nKostenpflichte Parkplätze sind am Bahnhof Echterding
 en vorhanden\nUTM: 32U 0512518 5393230\n\nÖPNV: möglich mit S-Bahn-Linie
  S2 und S3 bis Bahnhof Echterdingen\n\nDauer: bis ca. 17.00 Uhr\n\nStrecke
 : 17 km\n\nReine Gehzeit: 3 3/4 Std.\n\nAufstiege: 180 m\, Abstiege: 370 m
 \n\nSchwierigkeitsgrad: mittel\n\nStreckenwanderung mit individuller Heimr
 eise bzw. selbstständiger Rückfahrt mit ÖPNV zum Startpunkt\n\nEinkehr:
  Wer anschließend an die Wanderung noch Lust und Zeit hat\, individueller
  gemeinsamer Besuch vom Weihnachtsmarkt Esslingen.\n\nTeilnehmerbeitrag: f
 ür Mitglieder kostenlos\, für Nichtmitglieder 10 €\nZur Info: Die anfa
 llenden Kosten werden vom Wanderführer vor Ort eingesammelt.\n\nZusätzli
 che Kosten: individuelle eigene Kosten für ÖPNV sowie mögliche Speisen 
 und Getränke\n\nAnmeldung: erforderlich bis zum 02.12.2026 per Mail oder 
 WhatsApp unter Angabe von Vor- und Zuname\, Geburtsjahr sowie Handynummer 
 und E-Mailadresse.\nBegrenzte Teilnehmerzahl\n\nKontakt: Simone und Sebast
 ian Hatz\, 0152 34370165\, sebastian.hatz@googlemail.com
CATEGORIES:Wandern
LOCATION:P &amp\; R Parkhaus Echterdingen\, Gärtlesäckern 45\, Leinfelden
  Echterdingen\, 70771\, Deutschland
GEO:48.691908;9.170884
X-APPLE-STRUCTURED-LOCATION;VALUE=URI;X-ADDRESS=Gärtlesäckern 45\, Leinfe
 lden Echterdingen\, 70771\, Deutschland;X-APPLE-RADIUS=100;X-TITLE=P & R P
 arkhaus Echterdingen:geo:48.691908,9.170884
END:VEVENT
BEGIN:VTIMEZONE
TZID:Europe/Berlin
X-LIC-LOCATION:Europe/Berlin
BEGIN:STANDARD
DTSTART:20261025T020000
TZOFFSETFROM:+0200
TZOFFSETTO:+0100
TZNAME:CET
END:STANDARD
END:VTIMEZONE
END:VCALENDAR