BEGIN:VCALENDAR
VERSION:2.0
PRODID:-//wp-events-plugin.com//5.99912//EN
TZID:Europe/Berlin
X-WR-TIMEZONE:Europe/Berlin
BEGIN:VEVENT
UID:6-10938@wandern.albverein.net
DTSTART;TZID=Europe/Berlin:20260704T080000
DTEND;TZID=Europe/Berlin:20260705T190000
DTSTAMP:20251015T115758Z
URL:https://wandern.albverein.net/events/wandern-plus-albtal-abenteuer-tra
 ck-im-schwarzwald/
SUMMARY:Wandern +plus+: "Albtal Abenteuer Track" im Schwarzwald - Bahnhof B
 ad Herrenalb - 4 Juli 26 08:00
DESCRIPTION:Crosswandern? Noch nie gehört? Macht nichts\, denn Crosswander
 n auf dem ALBTAL.Abenteuer.Track im nördlichen Schwarzwald ist etwas Bran
 dneues: Quer durch Wald und Wiesen\, steil\, anstrengend und fordernd. Nic
 hts für Warmduscher. Wer die Herausforderung sucht\, der ist hier goldric
 htig. Immerhin gilt es\, zwei ca. 25 Kilometer lange Etappen mit insgesamt
  1.800 Höhenmetern zu absolvieren. Und das teilweise extrem den Berg hina
 uf. Querfeldein über umgestürzte Bäume\, durch hohes Gras\, über Felse
 n und Geröll und durch Bachläufe.\n\nDeutschlands erste Crosswander-Tour
  führt durch das Albtal. Die erste Etappe rund um Bad Herrenalb ist ein W
 eg durch die Wildnis\, ein authentisches Naturerlebnis.\nEvtl. ist ein Bes
 uch in der Siebentäler Therme möglich.\n\nEin gut gepackter Rucksack mit
  Verpflegung und ausreichend Getränken ist ein Muss\, um die Energiereser
 ven aufrechtzuerhalten. Und natürlich sind witterungsangepasste Kleidung\
 , robuste und gute Wanderschuhe und Sonnenschutz entscheidend für Komfort
  und Sicherheit unterwegs. Mit all diesen Vorbereitungen steht einem unbes
 chwerten Tag nichts im Wege!\n\nBitte beachten:\nEin gute Kondition ist Vo
 raussetzung!\nÜbernachtungsmöglichkeit im Hotel Kull von Schmidsfelsen o
 der auf dem Wohnmobil-Stellplatz.\n\n\n\nTreffpunkt: 8.00 Uhr\, Bahnhof Ba
 d Herrenalb\, Bahnhofsplatz 1\, 76332 Bad Herrenalb\n\nÖPNV: ist möglich
 \n\nDauer: bis ca. 19.00 Uhr\n\nStrecke: jeweils 25 km\n\nReine Gehzeit:\n
 Etappe 1: 8\,5 Std.\, Etappe 2: 7\,5 Std.\n\nAuf- und Abstiege:\nEtappe 1:
  1031 m\, Etappe 2: 900 m\n\nSchwierigkeitsgrad: anspruchsvoll\n\nRundwand
 erung\n\nTeilnehmerbeitrag: für Mitglieder kostenlos\, für Nichtmitglied
 er 15 €\nZur Info: Die anfallenden Kosten werden vom Wanderführer vor O
 rt eingesammelt.\n\nZusätzliche Kosten: evtl. für Übernachtung\n\nAnmel
 dung: erforderlich bis zum  1. Juli 2026\n\nKontakt: Dieter Bounin\, ichh
 abe@lustaufteck.de
CATEGORIES:Wandern
LOCATION:Bahnhof Bad Herrenalb\, Bahnhofsplatz 1\, Bad Herrenalb\, 76332\, 
 Deutschland
GEO:48.802453;8.438901
X-APPLE-STRUCTURED-LOCATION;VALUE=URI;X-ADDRESS=Bahnhofsplatz 1\, Bad Herre
 nalb\, 76332\, Deutschland;X-APPLE-RADIUS=100;X-TITLE=Bahnhof Bad Herrenal
 b:geo:48.802453,8.438901
END:VEVENT
BEGIN:VTIMEZONE
TZID:Europe/Berlin
X-LIC-LOCATION:Europe/Berlin
BEGIN:DAYLIGHT
DTSTART:20260329T030000
TZOFFSETFROM:+0100
TZOFFSETTO:+0200
TZNAME:CEST
END:DAYLIGHT
END:VTIMEZONE
END:VCALENDAR