BEGIN:VCALENDAR
VERSION:2.0
PRODID:-//wp-events-plugin.com//5.99912//EN
TZID:Europe/Berlin
X-WR-TIMEZONE:Europe/Berlin
BEGIN:VEVENT
UID:6-10987@wandern.albverein.net
DTSTART;TZID=Europe/Berlin:20260718T100000
DTEND;TZID=Europe/Berlin:20260718T163000
DTSTAMP:20251020T101906Z
URL:https://wandern.albverein.net/events/wandern-plus-albwassertour-wo-das
 -wasser-den-berg-hinauf-fliesst/
SUMMARY:Wandern +plus+: Albwassertour - Wo das Wasser den Berg hinauf flie
 ßt - Gasthaus Bären - 18 Juli 26 10:00
DESCRIPTION:\n\nAbwechslungsreiche Rundwanderung vom Flusstal auf die Albho
 chfläche. Wir wandern überwiegend auf Kies- und Waldwegen mit einer län
 geren Steigung von\n180 Höhenmetern. Viele historische Spuren zur Albwass
 erversorgung lassen sich noch in der herrlichen Alblandschaft entdecken\n\
 nVom kleinen Ort Hütten gehen wir entlang der Schmiech - vorbei am histor
 ischen Mühlrad - nach Teuringshofen. Dort besichtigen wir das erste Pumpw
 erk zur Albwasserversorgung von 1871. Bergwärts führt uns das Riedtal zu
 m historischen Wasserspeicher Sandburren auf der Albhochfläche. Bis hierh
 er wurde früher das Wasser hochgepumpt\, um dann wieder in die umliegende
 n Ortschaften verteilt zu werden. Wir kommen zu der Ruine des Schlosses vo
 n Justingen und sehen dann am alten Ochsenfuhrweg\, wie mühsam zuvor das 
 Wasser von der Schmiech auf die Alb transportiert wurde. Im Roman "Der Sc
 hultheiß von Justingen" ist die Geschichte der Albwasserversorgung sehr e
 indrücklich beschrieben. Einige Geschichten aus diesem Buch werden uns be
 gleiten. In Hütten können wir dann abschließend im Gasthof Bären eink
 ehren (auf eigene Kosten).\n\nFreuen Sie sich auf einen schönen und abwec
 hslungsreichen Wandertag\, bei dem Sie viel über die Geschichte der Wasse
 rversorgung der Albhochfläche erfahren!\n\nEin gut gepackter Rucksack mit
  Verpflegung und ausreichend Getränken ist ein Muss\, um die Energiereser
 ven aufrechtzuerhalten. Und natürlich sind witterungsangepasste Kleidung\
 , robuste Wanderschuhe und Sonnenschutz entscheidend für Komfort und Sich
 erheit unterwegs. Mit all diesen Vorbereitungen steht einem unbeschwerten 
 Tag nichts im Wege!\n\n\n\nTreffpunkt: 10.00 Uhr\, am Gasthaus Bären\, B
 ärentalstraße 2\, 89601 Schelklingen - Hütten\n\nÖPNV: Bahnhof oder Bu
 shalt in 89601 Hütten\n\nDauer: bis ca. 16.30 Uhr\n\nStrecke: 13\,6 km\n\
 nReine Gehzeit: 4 Std.\n\nAuf- und Abstiege: 260 m\n\nSchwierigkeitsgrad: 
 mittel\n\nRundwanderung\n\nEinkehr: Schlusseinkehr im Gathaus Bären mögl
 ich\n\nTeilnehmerbeitrag: für Mitglieder kostenlos\, für Nichtmitglieder
  10 €\nZur Info: Die anfallenden Kosten werden vom Wanderführer vor Ort
  eingesammelt.\n\nZusätzliche Kosten: 4 € für Eintritt in das Pumpwerk
  Teuringshofen\n\nAnmeldung: erforderlich bis zum 10. Juli 2026\, max. 25 
 Teilnehmer\n\nKontakt: Jürgen Magg\, 0160 97609766\, juergen.magg@gmx.net
CATEGORIES:Wandern
LOCATION:Gasthaus Bären\, Bärentalstraße 2\, Schelklingen-Hütten\, 8960
 1 \, Deutschland
GEO:48.373592;9.638458
X-APPLE-STRUCTURED-LOCATION;VALUE=URI;X-ADDRESS=Bärentalstraße 2\, Schelk
 lingen-Hütten\, 89601 \, Deutschland;X-APPLE-RADIUS=100;X-TITLE=Gasthaus 
 Bären:geo:48.373592,9.638458
END:VEVENT
BEGIN:VTIMEZONE
TZID:Europe/Berlin
X-LIC-LOCATION:Europe/Berlin
BEGIN:DAYLIGHT
DTSTART:20260329T030000
TZOFFSETFROM:+0100
TZOFFSETTO:+0200
TZNAME:CEST
END:DAYLIGHT
END:VTIMEZONE
END:VCALENDAR