BEGIN:VCALENDAR
VERSION:2.0
PRODID:-//wp-events-plugin.com//5.99912//EN
TZID:Europe/Berlin
X-WR-TIMEZONE:Europe/Berlin
BEGIN:VEVENT
UID:6-11014@wandern.albverein.net
DTSTART;TZID=Europe/Berlin:20260919T120000
DTEND;TZID=Europe/Berlin:20260919T160000
DTSTAMP:20251020T100624Z
URL:https://wandern.albverein.net/events/wandern-plus-auf-zum-hoechsten-be
 rg-der-schwaebischen-alb/
SUMMARY:Wandern +plus+: Auf zum höchsten Berg der Schwäbischen Alb - Wand
 erparkplatz Oberhohenberg - 19 Sep. 26 12:00
DESCRIPTION:Bild\n\nVom Wanderparkplatz Oberhohenberg geht’s hinauf auf d
 en Oberhohenberg mit tollen Aussichten. Von der ehemaligen Burg wurden Rui
 nenreste freigelegt\, über eine Hängebrücke gelangen wir zum Sattel des
  Oberhohenberg. Am Steilabfall hinab zum nächsten Sattel und hinauf zum L
 emberg. Der 33m hohe Ausschichtsturm bietet eine Traumhafte Panoramaaussic
 ht vom Schwarzwald bis in die Alpen. Vom Lemberg runter und auf einer sch
 önen Wegstrecke mit immer wieder tollen Aussichten zum Parkplatz zurück.
 \n\nEin gut gepackter Rucksack mit Verpflegung und ausreichend Getränken 
 ist ein Muss\, um die Energiereserven aufrechtzuerhalten. Und natürlich s
 ind witterungsangepasste Kleidung\, robuste Wanderschuhe und Sonnenschutz 
 entscheidend für Komfort und Sicherheit unterwegs. Mit all diesen Vorbere
 itungen steht einem unbeschwerten Tag nichts im Wege!\n\n\n\nTreffpunkt: 1
 2.00 Uhr\, Wanderparkplatz Oberhohenberg\, Oberhohenbergstraße\,\n72355 S
 chömberg\n\nAnfahrt: B 27 von Balingen Richtung Rottweil. Kurz nach Schö
 mberg links abbiegen auf die L435 Richtung Deilingen/Gosheim/Wehingen/Spai
 chingen. Immer gerade aus Richtung Deilingen. Kurz nach dem Ortseinfahrt D
 eilingen die zweite Abfahrt rechts nehmen bis zum Parkplatz Oberhohenberg.
 \n\nÖPNV: leider nicht möglich\n\nDauer: bis ca. 16 Uhr\n\nStrecke:10 km
 \n\nReine Gehzeit: 3\,5 Std.\n\nAuf- und Abstiege: 350 m\n\nSchwierigkeits
 grad: mittel\n\nRundwanderung\n\nEinkehr: ist nicht vorgesehen\n\nTeilnehm
 erbeitrag: für Mitglieder kostenlos\, für Nichtmitglieder 10 €\nZur In
 fo: Die anfallenden Kosten werden vom Wanderführer vor Ort eingesammelt.\
 n\nZusätzliche Kosten: fallen keine an\n\nAnmeldung: erforderlich bis zum
  16. September 2026\n\nKontakt: Peter Eiler\, eiler.p@t-online.de
CATEGORIES:Wandern
LOCATION:Wanderparkplatz Oberhohenberg\, Oberhohenbergstraße\, Schömberg\
 , 72355\, Deutschland
GEO:48.167303;8.761753
X-APPLE-STRUCTURED-LOCATION;VALUE=URI;X-ADDRESS=Oberhohenbergstraße\, Sch
 ömberg\, 72355\, Deutschland;X-APPLE-RADIUS=100;X-TITLE=Wanderparkplatz O
 berhohenberg:geo:48.167303,8.761753
END:VEVENT
BEGIN:VTIMEZONE
TZID:Europe/Berlin
X-LIC-LOCATION:Europe/Berlin
BEGIN:DAYLIGHT
DTSTART:20260329T030000
TZOFFSETFROM:+0100
TZOFFSETTO:+0200
TZNAME:CEST
END:DAYLIGHT
END:VTIMEZONE
END:VCALENDAR