BEGIN:VCALENDAR
VERSION:2.0
PRODID:-//wp-events-plugin.com//5.99912//EN
TZID:Europe/Berlin
X-WR-TIMEZONE:Europe/Berlin
BEGIN:VEVENT
UID:6-11317@wandern.albverein.net
DTSTART;TZID=Europe/Berlin:20260621T080000
DTEND;TZID=Europe/Berlin:20260621T130000
DTSTAMP:20260302T111158Z
URL:https://wandern.albverein.net/events/wandern-plus-berglen-suedschleife
 /
SUMMARY:Wandern +plus+: Berglen - Südschleife - Bushaltestelle Oppelsbohm 
 Ortsmitte - 21 Juni 26 08:00
DESCRIPTION:\n\nRundwanderung durch den südlichen Teil der Berglen.\n\nNac
 hdem wir bereits die Nordschleife hinter uns haben - führt uns diese Tour
  in den südlichen Teil der Berglen. Vom Hauptort Oppelsbohm geht es hoch 
 nach Oberweiler. Eine tolle Aussicht ist garantiert. Dort folgen wir dem O
 bst-/Gehölzlehrpfad. Von Bretzenacker geht es hinunter zum Erlenhof. Übe
 r Reichenbach kommen wir zum ehemaligen Töpferdorf Hößlinswart. Dort sc
 hauen wir uns den Gehölzlehrgarten an. Über Kottweil\, Birkenweißbuch u
 nd Ödernhardt geht es zurück zum Startort.\n\nEin gut gepackter Rucksack
  mit Verpflegung und ausreichend Getränken ist ein Muss\, um die Energier
 eserven aufrechtzuerhalten. Und natürlich sind witterungsangepasste Kleid
 ung\, robuste Wanderschuhe und Sonnenschutz entscheidend für Komfort und 
 Sicherheit unterwegs. Mit all diesen Vorbereitungen steht einem unbeschwer
 ten Tag nichts im Wege!\n\n\n\nWandern plus: &lt\;a href="https://www.flat
 icon.com/free-icons/hiking" title="hiking icons"&gt\;Hiking icons created 
 by Made by Made Premium - Flaticon&lt\;/a&gt\;\n\nTreffpunkt: 8.00 Uhr\, B
 ushaltestelle Ortsmitte\, 73663 Berglen-Oppelbohm\n\nÖPNV: aus Richtung W
 innenden Bus-Linien 330\, 336 und 337\naus Richtung Schorndorf Bus Linien 
 234 und 244\n\nDauer: bis ca. 13.00 Uhr\n\nStrecke: 18\,1 km\n\nReine Gehz
 eit: 5 Std.\n\nAufstiege: 437 m\, Abstiege: 424 m\n\nSchwierigkeitsgrad: m
 ittel\n\nRundwanderung\n\nEinkehr: im Gasthaus Lamm in Birkenweißbuch\n\n
 Teilnehmerbeitrag: für Mitglieder kostenlos\, für Nichtmitglieder 10 €
 \nZur Info: Die anfallenden Kosten werden vom Wanderführer vor Ort einges
 ammelt.\n\nZusätzliche Kosten: evtl. für ÖPNV\n\nAnmeldung: erforderlic
 h bis zum 17. Juni 2026\, max. 20 Teilnehmer*innen\n\nKontakt: Jörg Bonn\
 , joerg.bonn@berg-len-outdoor.de\n\nHomepage https://www.berg-len-outdoor.
 de/wanderführer/termine-2026/
CATEGORIES:Wandern
LOCATION:Bushaltestelle Oppelsbohm Ortsmitte\, Beethovenstraße\, Berglen-O
 ppelsbohm\, 73663\, Deutschland
GEO:48.861101;9.469084
X-APPLE-STRUCTURED-LOCATION;VALUE=URI;X-ADDRESS=Beethovenstraße\, Berglen-
 Oppelsbohm\, 73663\, Deutschland;X-APPLE-RADIUS=100;X-TITLE=Bushaltestelle
  Oppelsbohm Ortsmitte:geo:48.861101,9.469084
END:VEVENT
BEGIN:VTIMEZONE
TZID:Europe/Berlin
X-LIC-LOCATION:Europe/Berlin
BEGIN:DAYLIGHT
DTSTART:20260329T030000
TZOFFSETFROM:+0100
TZOFFSETTO:+0200
TZNAME:CEST
END:DAYLIGHT
END:VTIMEZONE
END:VCALENDAR