BEGIN:VCALENDAR
VERSION:2.0
PRODID:-//wp-events-plugin.com//5.99912//EN
TZID:Europe/Berlin
X-WR-TIMEZONE:Europe/Berlin
BEGIN:VEVENT
UID:6-10989@wandern.albverein.net
DTSTART;TZID=Europe/Berlin:20260607T090000
DTEND;TZID=Europe/Berlin:20260607T193000
DTSTAMP:20260420T070715Z
URL:https://wandern.albverein.net/events/wandern-plus-das-filetstueckle-de
 s-burgenwegs-im-grossen-lautertal/
SUMMARY:Wandern +plus+: Das Filetstückle des Burgenwegs im Großen Lautert
 al - Rathaus Rechtenstein - 7 Juni 26 09:00
DESCRIPTION:\n\nAussichtsreiche\, sportliche Streckenwanderung mit einigen 
 Höhenmetern bergauf und bergab vom Grossen Lautertal an die Donau bei Rec
 htenstein.\n\nSchroffe Kalkfelsen\, Höhlen\, Burgen und Ruinen\, Kalksint
 erterrassen\, Magerrasen und Flussauen säumen den Weg. Auf teils schmalen
  Pfaden im steten Auf- und Ab geht es über aussichtsreiches Hügelland. E
 ntlang der mäandrierenden Lauter und der geheimnisvollen Braunsel wird da
 s Ziel\, die Donau bei Rechtenstein erreicht.\n\nEin gut gepackter Rucksac
 k mit Verpflegung und ausreichend Getränken ist ein Muss\, um die Energie
 reserven aufrechtzuerhalten. Und natürlich sind witterungsangepasste Klei
 dung\, robuste Wanderschuhe und Sonnenschutz entscheidend für Komfort und
  Sicherheit unterwegs. Mit all diesen Vorbereitungen steht einem unbeschwe
 rten Tag nichts im Wege!\n\nBitte beachten: Trittsicherheit ist erforderli
 ch.\n\n\n\nTreffpunkt: 9.00 Uhr\, Rathaus Rechtenstein\, Braunselweg 2\, 8
 9611 Rechtenstein\nanschl. mit dem Radwanderbus 297 nach Hundersingen\, Ra
 thaus\nStart der Wanderung um 9.45 Uhr\n\nÖPNV: Rechtenstein ist mit Bus 
 und Bahn von Ehingen aus zu erreichen\;\nHundersingen mit dem Bus ab Müns
 ingen oder mit dem Radwanderbus ab Rechtenstein\n\nDauer: bis ca. 18.00 Uh
 r in Rechtenstein\n\nStrecke: 22 km\n\nReine Gehzeit: 6\,5 Std.\n\nAufstie
 ge: 390 m\, Abstiege: 470 m\n\nSchwierigkeitsgrad: anspruchsvoll\n\nStreck
 enwanderung\n\nEinkehr: möglich auf der Burg Derneck\n\nTeilnehmerbeitrag
 : für Mitglieder kostenlos\, für Nichtmitglieder 10 €\nZur Info: Die a
 nfallenden Kosten werden von der Wanderführerin vor Ort eingesammelt.\n\n
 Zusätzliche Kosten: für den Bus\n\nAnmeldung: erforderlich bis zum 30. M
 ai 2026\, max. 20 Teilnehmer*innen\n\nKontakt: Ursula Geister\, 0151 46359
 067\, ursula.geister@outlook.de
CATEGORIES:Wandern
LOCATION:Rathaus Rechtenstein\, Braunselweg 2\, Rechtenstein\, 89611\, Deut
 schland
GEO:48.240538;9.544775
X-APPLE-STRUCTURED-LOCATION;VALUE=URI;X-ADDRESS=Braunselweg 2\, Rechtenstei
 n\, 89611\, Deutschland;X-APPLE-RADIUS=100;X-TITLE=Rathaus Rechtenstein:ge
 o:48.240538,9.544775
END:VEVENT
BEGIN:VTIMEZONE
TZID:Europe/Berlin
X-LIC-LOCATION:Europe/Berlin
BEGIN:DAYLIGHT
DTSTART:20260329T030000
TZOFFSETFROM:+0100
TZOFFSETTO:+0200
TZNAME:CEST
END:DAYLIGHT
END:VTIMEZONE
END:VCALENDAR