BEGIN:VCALENDAR
VERSION:2.0
PRODID:-//wp-events-plugin.com//5.99912//EN
TZID:Europe/Berlin
X-WR-TIMEZONE:Europe/Berlin
BEGIN:VEVENT
UID:6-11302@wandern.albverein.net
DTSTART;TZID=Europe/Berlin:20260523T100000
DTEND;TZID=Europe/Berlin:20260525T180000
DTSTAMP:20260216T140434Z
URL:https://wandern.albverein.net/events/wandern-plus-der-stuttgarte-roess
 leweg/
SUMMARY:Wandern +plus+: Der Stuttgarter Rössleweg - S-Bahn Haltestelle Obe
 rtürkheim - 23 Mai 26 10:00
DESCRIPTION:\n\nIn drei Tagestouren einmal rund um die Stadt\n\nStuttgart i
 st schön! Und hat viele Seiten.\nWer unsere Stadt von ihren sehr verschie
 denen\, vielleicht auch neuen\, Seiten kennenlernen möchte\, und Lust am 
 Wandern hat\, ist hier richtig!\nDer „Rössleweg“\, eingerichtet und g
 epflegt vom Verschönerungsverein Stuttgart e. V.\, führt uns ganz sprich
 wörtlich durch "Wald und Reben"\, aber auch durch unterschiedlichste Stad
 tteile\, enge Schluchten und Industrieanlagen\, am Neckar entlang und in S
 tuttgarter Halbhöhen und Höhenlagen. Immer wieder bekommt man auf diesem
  Rundweg herrliche und überraschende Aus- und Überblicke über "den Kess
 el" und seine Ränder.\n\nUnd natürlich ist daneben viel Zeit: Zeit zum E
 rzählen\, Zeit die Natur zu genießen\, Zeit runter zu kommen aus der Bet
 riebsamkeit des Alltags. Wir treffen uns jeweils um 10:00 Uhr am Ausgangsp
 unkt - und kommen gegen 18:00 Uhr am Ziel\, in der Nähe einer Bahn- oder 
 Bushaltestelle an. Die drei Tagestouren liegen zwischen 18 und 22 km.\n\n 
 	Tag: Vom Botnanger Sattel (U-Bahn Linie U2 und U9\, Haltestelle Lindpaint
 nerstraße) über Kräherwald\, Feuerbacher Tal\, Hohe Warte\, Lemberg\, Z
 uffenhausen\, Burgholzhof an den Max-Eyth-See.\n 	Tag: Vom Neckartal (U-Ba
 hn Linie U12 oder U14\, Haltestelle Wagrainäcker) über Zuckerberg\, Stei
 nhaldenfeld\, Bad Cannstatt\, auf den Württemberg und wieder hinunter ins
  Neckartal bis Hedelfingen.\n 	Tag: Von U-Bahn-Haltestelle Hedelfingen (Li
 nien U9 oder U13) über die Wangener Höhe am Bopser entlang durch viel Wa
 ld\, die Schwälblesklinge und die Heslacher Wand auf den Birkenkopf.\n\nN
 ach der Anmeldung erhalten Sie in der KW 20 einen Teilnehmerbrief mit gena
 ueren Informationen zu Weg und Ausrüstung.\n\nEin gut gepackter Rucksack 
 mit Verpflegung und ausreichend Getränken ist ein Muss\, um die Energiere
 serven aufrechtzuerhalten. Und natürlich sind witterungsangepasste Kleidu
 ng\, robuste Wanderschuhe und Sonnenschutz entscheidend für Komfort und S
 icherheit unterwegs. Mit all diesen Vorbereitungen steht einem unbeschwert
 en Tag nichts im Wege!\n\n\n\nWandern plus: &lt\;a href="https://www.flati
 con.com/free-icons/hiking" title="hiking icons"&gt\;Hiking icons created b
 y Made by Made Premium - Flaticon&lt\;/a&gt\;\n\nTreffpunkt: jeweils um 10
 .00 Uhr\n\nDauer: bis ca. 18.00 Uhr\n\nStrecke: zwischen 18 und 22 km\n\nR
 eine Gehzeit: jeweils zwischen 6 und 7 Std.\n\nAuf- und Abstiege:\n\nSchwi
 erigkeitsgrad: mittel\n\nStreckenwanderungen\n\nEinkehr: ist nicht geplant
 \n\nTeilnehmerbeitrag: für Mitglieder kostenlos\, für Nichtmitglieder 10
  €\nZur Info: Die anfallenden Kosten werden vom Wanderführer vor Ort ei
 ngesammelt.\n\nZusätzliche Kosten: evtl. für ÖPNV\n\nAnmeldung: hier\nN
 ach der Anmeldung erhalten Sie in der KW 20 einen Teilnehmerbrief mit gena
 ueren Informationen zu Weg und Ausrüstung.\n\nKontakt: Tilman Kugler\, Th
 eologe\, Pädagoge\, Wanderführer\n\nIn Kooperation mit dem Katholischen 
 Bildungswerk
CATEGORIES:Wandern
LOCATION:S-Bahn Haltestelle Obertürkheim\, Bahnhof Obertürkheim\, Stuttga
 rt-Obertürkheim\, Deutschland
GEO:48.761733;9.267983
X-APPLE-STRUCTURED-LOCATION;VALUE=URI;X-ADDRESS=Bahnhof Obertürkheim\, Stu
 ttgart-Obertürkheim\, Deutschland;X-APPLE-RADIUS=100;X-TITLE=S-Bahn Halte
 stelle Obertürkheim:geo:48.761733,9.267983
END:VEVENT
BEGIN:VTIMEZONE
TZID:Europe/Berlin
X-LIC-LOCATION:Europe/Berlin
BEGIN:DAYLIGHT
DTSTART:20260329T030000
TZOFFSETFROM:+0100
TZOFFSETTO:+0200
TZNAME:CEST
END:DAYLIGHT
END:VTIMEZONE
END:VCALENDAR