BEGIN:VCALENDAR
VERSION:2.0
PRODID:-//wp-events-plugin.com//5.99912//EN
TZID:Europe/Berlin
X-WR-TIMEZONE:Europe/Berlin
BEGIN:VEVENT
UID:6-10934@wandern.albverein.net
DTSTART;TZID=Europe/Berlin:20260425T080000
DTEND;TZID=Europe/Berlin:20260425T160000
DTSTAMP:20251015T113052Z
URL:https://wandern.albverein.net/events/wandern-plus-durch-die-weinberge-
 im-neuffener-tal/
SUMMARY:Wandern +plus+: Durch die Weinberge im Neuffener Tal - Bahnhof Owen
  - 25 Apr. 26 08:00
DESCRIPTION:Maienwasen: Ein herrlicher Grillplatz mit Aussicht zur „Blaue
 n Mauer“. Hier feiern traditionell die Owener ihren Maientag.\nTiefenbac
 h: ein schönes Tal verbindet Owen mit Nürtingen. Schabachbrücke: der Wa
 nderweg quert dort über den Tiefenbach.\nJackobsbrunnen: auf dem Pilgerwe
 g nach Frickenhausen zur Kirche „Zu meiner lieben Frau“ mit Jakobus im
  Chor.\nWeinberge: hier gibt es den Neuffener Täleswein u. Wein vom „Do
 lde“.\n„Gneiting“-Denkmal: Hier wurde Feldschütz Gneiting bei seine
 m Dienstgang erschossen.\nHohbühl: ein Vulkankegel bei Beuren mit schöne
 r Aussicht. Baßgeige: Voralbkante zwischen Owen und Beuren\, ein Stück 
 „Blaue Mauer“ (aus Mörikes Stuttgarter Hutzelmännlein).\nFeuerbölle
 : Vulkankegel mit aufgelassenem Steinbruch und schöner Aussicht über Owe
 n und zum Teckberg.\n\nEin gut gepackter Rucksack mit Verpflegung und ausr
 eichend Getränken ist ein Muss\, um die Energiereserven aufrechtzuerhalte
 n. Und natürlich sind witterungsangepasste Kleidung\, robuste Wanderschuh
 e und Sonnenschutz entscheidend für Komfort und Sicherheit unterwegs. Mit
  all diesen Vorbereitungen steht einem unbeschwerten Tag nichts im Wege!\n
 \n\n\nTreffpunkt: 8.00 Uhr\,  Bahnhof Owen\, 73277 Owen\n\nÖPNV: mit der
  Bahn\n\nDauer: bis ca. 6.00 Uhr\n\nStrecke: 25 km\n\nReine Gehzeit: 5 Std
 .\n\nAuf- und Abstiege: 540 m\n\nSchwierigkeitsgrad: mittel\n\nRundwanderu
 ng\n\nEinkehr: möglich im Friedrichs oder im Thermalbad\n\nTeilnehmerbeit
 rag: für Mitglieder kostenlos\, für Nichtmitglieder 10 €\nZur Info: Di
 e anfallenden Kosten werden vom Wanderführer vor Ort eingesammelt.\n\nZus
 ätzliche Kosten: fallen keine an\n\nAnmeldung: erforderlich bis zum 22. A
 pril 2026\n\nKontakt: Dieter Bounin\, ichhabe@lustaufteck.de
CATEGORIES:Wandern
LOCATION:Bahnhof Owen\, Bahnhof\, Owen\, 73277\, Deutschland
GEO:48.58692407897895;9.447970462951616
X-APPLE-STRUCTURED-LOCATION;VALUE=URI;X-ADDRESS=Bahnhof\, Owen\, 73277\, De
 utschland;X-APPLE-RADIUS=100;X-TITLE=Bahnhof Owen:geo:48.58692407897895,9.
 447970462951616
END:VEVENT
BEGIN:VTIMEZONE
TZID:Europe/Berlin
X-LIC-LOCATION:Europe/Berlin
BEGIN:DAYLIGHT
DTSTART:20260329T030000
TZOFFSETFROM:+0100
TZOFFSETTO:+0200
TZNAME:CEST
END:DAYLIGHT
END:VTIMEZONE
END:VCALENDAR