BEGIN:VCALENDAR
VERSION:2.0
PRODID:-//wp-events-plugin.com//5.99912//EN
TZID:Europe/Berlin
X-WR-TIMEZONE:Europe/Berlin
BEGIN:VEVENT
UID:6-11310@wandern.albverein.net
DTSTART;TZID=Europe/Berlin:20260531T103000
DTEND;TZID=Europe/Berlin:20260531T184500
DTSTAMP:20260314T103241Z
URL:https://wandern.albverein.net/events/wandern-plus-genusswanderung-durc
 h-den-welzheimer-wald-mit-besuch-des-hagbergturmes/
SUMMARY:Wandern +plus+: Genusswanderung durch den Welzheimer Wald mit Besuc
 h der 125 Jahresfeier des Hagbergturmes - Bahnhof Fichtenberg - 31 Mai 26 
 10:30
DESCRIPTION:Foto: Karin Kunz\nHagbergturm\n  \n\nDie Rundwanderung beginnt
  am Bahnhof Fichtenberg\, der seit dem späten 19. Jahrhundert an der Bahn
 linie Crailsheim–Stuttgart liegt und wesentlich zur wirtschaftlichen Ent
 wicklung des Ortes beitrug. Fichtenberg selbst war über Jahrhunderte von 
 Forstwirtschaft\, Flößerei und Holzverarbeitung geprägt\; der Ortsname 
 verweist auf die ehemals ausgedehnten Fichtenwälder der Umgebung.\n\nVom 
 Bahnhof führt der Weg zunächst über den Stummelberg\, einen bewaldeten 
 Höhenzug\, der typische Landschaftsformen des Schwäbisch-Fränkischen Wa
 ldes zeigt. Historische Hohlwege und alte Waldpfade deuten hier auf frühe
 re Nutzungen als Verbindungs- und Handelswege hin. Ziel ist Mittelrot\, de
 ssen Geschichte eng mit der Rodung und landwirtschaftlichen Erschließung 
 des Rot-Tals verbunden ist.\n\nWeiter geht es zum Rötenturm\, der Ruine e
 iner mittelalterlichen Burganlage. Der heute noch erhaltene Turm stammt ve
 rmutlich aus dem 13. Jahrhundert und diente der Sicherung des Rot-Tals sow
 ie wichtiger Verkehrswege. Die Anlage war Teil eines Netzes kleiner Adelsb
 urgen\, die einst den regionalen Macht- und Besitzverhältnissen Ausdruck 
 verliehen. Ein Besuch der Ruine lohnt sich nicht nur aus historischer Sich
 t\, sondern auch wegen des schönen Ausblicks auf die umliegende Landschaf
 t.\n\nNach dem Abstieg ist der kleine Weiler Honkling das nächste Ziel. S
 olche Weiler sind charakteristisch für den Welzheimer Wald und entstanden
  meist im Hochmittelalter als Einzelhöfe oder kleine Hofgruppen. Ihre loc
 kere Siedlungsstruktur verdeutlicht die jahrhundertelange Nutzung des Wald
 es als Lebens- und Arbeitsraum.\n\nÜber Felder und durch ausgedehnte Wald
 gebiete gelangt man anschließend zum Hagbergturm\, einem der bekanntesten
  Aussichtstürme der Region. Der Turm wurde 1909 vom Schwäbischen Albvere
 in erbaut und ist ein bedeutendes Zeugnis der frühen Wander- und Natursch
 utzbewegung. Von der Aussichtsplattform eröffnet sich eine großartige Ru
 ndumsicht über den Welzheimer Wald\, das Remstal\, den Schwäbisch-Fränk
 ischen Wald und bei klarer Sicht bis zur Schwäbischen Alb.\n\nHier kehren
  wir bei der 125 Jahresfeier des Turmes ein.\n\nDer Rückweg folgt dem Hau
 ptwanderweg HW 3 des Schwäbischen Albvereins\, einem traditionsreichen Fe
 rnwanderweg. Er führt durch den Weiler Horlachen\, dessen Name auf feucht
 e Geländeverhältnisse hinweist\, und weiter über den Staufenberg\, eine
 n markanten Höhenrücken mit alten Flurnamen. Schließlich erreicht man w
 ieder Fichtenberg\, wo sich der abwechslungsreiche Rundweg schließt.\n\nD
 iese Wanderung verbindet auf eindrucksvolle Weise landschaftliche Vielfalt
 \, mittelalterliche Geschichte und die Wandertradition des Schwäbischen A
 lbvereins.\n\nDie genaue Beschreibung der Tour (Karte\, Track) ist hier:\n
 \nBitte Rucksackvesper und ausreichend Getränke mitbringen. Und denken Si
 e an witterungsangepasste Kleidung und gute Wanderschuhe.\n\n&nbsp\;\n\nRu
 ndwanderung\n\nTreffpunkt: Bahnhof Fichtenberg\, Ausgang Nordseite\; Bahn
 hofstr. 33\, 74427 Fichtenberg\n\nUhrzeit: 10:30  Uhr\n\nDauer: bis ca. 
  17:15 Uhr (Ankunft Bahnhof Fichtenberg)\n\nStrecke: 19\,5 km\n\nReine Geh
 zeit:  ca. 5:15 Std.\n\nAufstiege: 380 m\, Abstiege: 380 m\n\nEinkehr: am
  Hagbergturm\n\nAnmeldung: erforderlich bis 28. Mai 2026\, bei Wanderführ
 er Peter Herrmann\n\nKosten: für Mitglieder des Schwäbischen Albvereins 
 kostenlos\, für Nichtmitglieder 10 €\n\nKontakt: Peter Herrmann\, 0711 
 748340\, mobil 0151 16812044\, herrmann.stgt@outlook.de
CATEGORIES:Wandern
LOCATION:Bahnhof Fichtenberg\, Bahnhof Fichtenberg\, Fichtenberg\, 74427\, 
 Deutschland
GEO:48.987593;9.700874
X-APPLE-STRUCTURED-LOCATION;VALUE=URI;X-ADDRESS=Bahnhof Fichtenberg\, Ficht
 enberg\, 74427\, Deutschland;X-APPLE-RADIUS=100;X-TITLE=Bahnhof Fichtenber
 g:geo:48.987593,9.700874
END:VEVENT
BEGIN:VTIMEZONE
TZID:Europe/Berlin
X-LIC-LOCATION:Europe/Berlin
BEGIN:DAYLIGHT
DTSTART:20260329T030000
TZOFFSETFROM:+0100
TZOFFSETTO:+0200
TZNAME:CEST
END:DAYLIGHT
END:VTIMEZONE
END:VCALENDAR