BEGIN:VCALENDAR
VERSION:2.0
PRODID:-//wp-events-plugin.com//5.99912//EN
TZID:Europe/Berlin
X-WR-TIMEZONE:Europe/Berlin
BEGIN:VEVENT
UID:6-11029@wandern.albverein.net
DTSTART;TZID=Europe/Berlin:20260718T080000
DTEND;TZID=Europe/Berlin:20260718T170000
DTSTAMP:20251020T124610Z
URL:https://wandern.albverein.net/events/wandern-plus-hochgehtuermt/
SUMMARY:Wandern +plus+: Hochgehtürmt - Parkplatz Nebelhöhle - 18 Juli 26 
 08:00
DESCRIPTION:\n\nHochgehtürmt: Premiumwanderweg der Hochgehberge.\n\nNebelh
 öhle: Eine der schönsten und größten Tropfsteinhöhlen unserer Schwäb
 ischen Alb. (Länge ca. 450m).\n\nSchönberg (793m): Der 1905 errichtete A
 ussichtsturm bietet einen herrlichen Rundblick. Aufgrund seiner Form hat d
 er Aussichtsturm den volkstümlichen Namen „Pfullinger Unterhose”.\n\n
 Gönninger Seen: Hier wurde früher Tuffstein abgebaut\, noch heute sind d
 ie Reste des Steinbruchs zu finden. Nach und nach entstanden daraus drei S
 een und ein Naherholungsgebiet in einem kleinen Tal.\n\nHochwiesen: Es han
 delt sich um Magerwiesen ohne Düngung\, die nur einmal im Jahr gemäht we
 rden. Dadurch konnten sich auf diesen Wiesen Pflanzen- und Tierarten erhal
 ten\, die auf intensiver bewirtschafteten Wiesen schon längst ausgestorbe
 n sind.\n\nRoßbergturm (28m): Turm und Wanderheim wurden 1913 zum 25jähr
 igen Jubiläum des Schwäbischen Albvereins auf der damals noch ziemlich w
 aldfreien Kuppe des Roßberges erbaut.\n\nEin gut gepackter Rucksack mit V
 erpflegung und ausreichend Getränken ist ein Muss\, um die Energiereserve
 n aufrechtzuerhalten. Und natürlich sind witterungsangepasste Kleidung\, 
 robuste Wanderschuhe und Sonnenschutz entscheidend für Komfort und Sicher
 heit unterwegs. Mit all diesen Vorbereitungen steht einem unbeschwerten Ta
 g nichts im Wege!\n\n\n\nTreffpunkt: 8.00 Uhr\, Parkplatz Nebelhöhle\, Li
 chtensteinstraße\, 72820 Sonnenbühl\n\nÖPNV: leider nicht möglich\n\nD
 auer: bis ca. 17.00 Uhr\n\nStrecke: 23 km\n\nReine Gehzeit: 7\,5 Std.\n\nA
 uf- und Abstiege: 620 m\n\nSchwierigkeitsgrad: anspruchsvoll\n\nRundwander
 ung\n\nEinkehr: nicht geplant\n\nTeilnehmerbeitrag: für Mitglieder kosten
 los\, für Nichtmitglieder 10 €\nZur Info: Die anfallenden Kosten werden
  vom Wanderführervor Ort eingesammelt.\n\nZusätzliche Kosten: fallen kei
 ne an\n\nAnmeldung: erforderlich bis zum\n\nKontakt: Dieter Bounin\, ichha
 be@lustaufteck.de
CATEGORIES:Wandern
LOCATION:Parkplatz Nebelhöhle\, Lichtensteinstraße \, Sonnenbühl\, 72820
 \, Deutschland
GEO:48.416772;9.221905
X-APPLE-STRUCTURED-LOCATION;VALUE=URI;X-ADDRESS=Lichtensteinstraße \, Sonn
 enbühl\, 72820\, Deutschland;X-APPLE-RADIUS=100;X-TITLE=Parkplatz Nebelh
 öhle:geo:48.416772,9.221905
END:VEVENT
BEGIN:VTIMEZONE
TZID:Europe/Berlin
X-LIC-LOCATION:Europe/Berlin
BEGIN:DAYLIGHT
DTSTART:20260329T030000
TZOFFSETFROM:+0100
TZOFFSETTO:+0200
TZNAME:CEST
END:DAYLIGHT
END:VTIMEZONE
END:VCALENDAR