BEGIN:VCALENDAR
VERSION:2.0
PRODID:-//wp-events-plugin.com//5.99912//EN
TZID:Europe/Berlin
X-WR-TIMEZONE:Europe/Berlin
BEGIN:VEVENT
UID:6-10974@wandern.albverein.net
DTSTART;TZID=Europe/Berlin:20260523T083000
DTEND;TZID=Europe/Berlin:20260523T171500
DTSTAMP:20251001T123447Z
URL:https://wandern.albverein.net/events/wandern-plus-hunderte-hoehenmeter
 -hinter-blaubeuren/
SUMMARY:Wandern +plus+: Hunderte Höhenmeter hinter Blaubeuren - Bahnhof Bl
 aubeuren - 23 Mai 26 08:30
DESCRIPTION:\n\nSportliche Rundwanderung\, aber trotzdem mit Aussichtspunkt
 en und den Welterbestätten des Achtales am Weg.\n\nWanderung links und re
 chts des Urdonautales\, heute von der Schelklinger Ach durchflossen\, die 
 Talhänge auf und ab. Am Weg: Brillenhöhle\, Felsenlabyrinth\, Ruine Gün
 zelburg\, Seißener Bannwald\, Sirgensteinhöhle\, Geißenklösterle\, Sch
 illerstein mit Blick auf Blaubeuren\, das Rusenschloss und den Rucken ehem
 aliger Umlaufberg der Urdonau.\n\nEin gut gepackter Rucksack mit Verpflegu
 ng und ausreichend Getränken ist ein Muss\, um die Energiereserven aufrec
 htzuerhalten. Und natürlich sind witterungsangepasste Kleidung\, robuste 
 Wanderschuhe und Sonnenschutz entscheidend für Komfort und Sicherheit unt
 erwegs. Mit all diesen Vorbereitungen steht einem unbeschwerten Tag nichts
  im Wege!\n\n\n\nTreffpunkt: 8.30 Uhr\, Bahnhofsvorplatz\, Bahnhof Blaubeu
 ren\, Bahnhofstraß3 8\,\n89143 Blaubeuren\n\nÖPNV: mit RE55 (Ulm - Donau
 eschingen) oder RS3 (Ulm - Munderkingen) bis Bahnhof Blaubeuren\n\nDauer: 
 bis ca. 17.15 Uhr\n\nStrecke: 20 km\n\nReine Gehzeit: 7 Std.\n\nAuf- und A
 bstiege: 800 m\n\nSchwierigkeitsgrad: anspruchsvoll\n\nRundwanderung\n\nEi
 nkehr: nach 18 km in der Waldgaststätte Zum Schillerstein\n\nTeilnehmerbe
 itrag: für Mitglieder kostenlos\, für Nichtmitglieder 10 €\nZur Info: 
 Die anfallenden Kosten werden vom Wanderführer vor Ort eingesammelt.\n\nZ
 usätzliche Kosten: für ÖPNV und Einkehr auf eigene Kosten\n\nAnmeldung:
  erforderlich bis zum 21. Mai 2026\, max. 20 Teilnehmer\n\nKontakt: Dr. Ch
 ristian Hajduk\, 07336 5920\, naturschutz-sav@abch-hajduk.de
CATEGORIES:Wandern
LOCATION:Bahnhof Blaubeuren\, Bahnhofstr. 8\, Blaubeuren\, 89134\, Deutschl
 and
GEO:48.41931049999999;9.898382800000036
X-APPLE-STRUCTURED-LOCATION;VALUE=URI;X-ADDRESS=Bahnhofstr. 8\, Blaubeuren\
 , 89134\, Deutschland;X-APPLE-RADIUS=100;X-TITLE=Bahnhof Blaubeuren:geo:48
 .41931049999999,9.898382800000036
END:VEVENT
BEGIN:VTIMEZONE
TZID:Europe/Berlin
X-LIC-LOCATION:Europe/Berlin
BEGIN:DAYLIGHT
DTSTART:20260329T030000
TZOFFSETFROM:+0100
TZOFFSETTO:+0200
TZNAME:CEST
END:DAYLIGHT
END:VTIMEZONE
END:VCALENDAR