BEGIN:VCALENDAR
VERSION:2.0
PRODID:-//wp-events-plugin.com//5.99912//EN
TZID:Europe/Berlin
X-WR-TIMEZONE:Europe/Berlin
BEGIN:VEVENT
UID:6-11275@wandern.albverein.net
DTSTART;TZID=Europe/Berlin:20261025T091500
DTEND;TZID=Europe/Berlin:20261025T173000
DTSTAMP:20260116T160546Z
URL:https://wandern.albverein.net/events/wandern-plus-hw-7-von-lorach-auf-
 den-hohenstaufen-auf-den-spuren-der-staufer/
SUMMARY:Wandern +plus+: HW 7 Von Lorch auf den Hohenstaufen - auf den Spure
 n der Staufer - Bahnhof Lorch - 25 Okt. 26 09:15
DESCRIPTION:\n\nDer HW7\, Schwäbische Alb-Oberschwaben-Weg führt vom nör
 dlichen Albvorland quer über unsere schöne Alb bis nach Friedrichshafen 
 am Bodensee. Die erste Etappe vom Kloster Lorch über das Wäscherschloss 
 bis zum Hohenstaufen mit den sehenswerten Ruinen der gleichnamigen Burg de
 ckt dabei noch einen Großteil mittelalterlicher Geschichte ab. Die Staufe
 r prägten das Gesicht Europas über einen Zeitraum von beinahe 200 Jahren
 \, bis die Dynastie mit der öffentlichen Enthauptung des letzten legitime
 n Thronanwärters 1268 in männlicher Linie erlosch. Ludwig Uhland bezeich
 net den Hohenstaufen als den schönsten aller schwäbischen Berge. Dem ist
  nichts hinzuzufügen.\n\nEin gut gepackter Rucksack mit Verpflegung und a
 usreichend Getränken ist ein Muss\, um die Energiereserven aufrechtzuerha
 lten. Und natürlich sind witterungsangepasste Kleidung\, robuste Wandersc
 huhe und Sonnenschutz entscheidend für Komfort und Sicherheit unterwegs. 
 Mit all diesen Vorbereitungen steht einem unbeschwerten Tag nichts im Wege
 !\n\n\n\nTreffpunkt: Bahnhof Lorch\nUhrzeit: 9.15 Uhr\n\nÖPNV: DB Lorch\n
 \nDauer:  bis ca. 17:30 Uhr\n\nStrecke: 17\,5 km\n\nReine Gehzeit: 6 Std\
 n\nAuf- und Abstiege: auf 568 m\, ab 461 m\n\nSchwierigkeitsgrad: schwer\n
 \nStreckenwanderung: Rückfahrt mit ÖPNV\n\nEinkehr: optional am Ende der
  Tour in Lorch\n\nTeilnehmerbeitrag: für Mitglieder kostenlos\, für Nich
 tmitglieder 10 €\nggf. zusätzliche Kosten für den Besuch des Wäschers
 chlosses\, Einkehr auf dem Hohenstaufen und Rückfahrt mit dem Bus\nZur In
 fo: Die anfallenden Kosten werden vom Wanderführer vor Ort eingesammelt.\
 n\nAnmeldung: erforderlich bis 18.10.2026\n\nKontakt: Hans Abele\, hans.a
 bele@web.de und Elisabeth Müller\, elim49@t-online.de
CATEGORIES:Wandern
LOCATION:Bahnhof Lorch\, Poststraße 11\, Lorch\, 73547\, Deutschland
GEO:48.79781;9.695339999999987
X-APPLE-STRUCTURED-LOCATION;VALUE=URI;X-ADDRESS=Poststraße 11\, Lorch\, 73
 547\, Deutschland;X-APPLE-RADIUS=100;X-TITLE=Bahnhof Lorch:geo:48.79781,9.
 695339999999987
END:VEVENT
BEGIN:VTIMEZONE
TZID:Europe/Berlin
X-LIC-LOCATION:Europe/Berlin
BEGIN:STANDARD
DTSTART:20261025T020000
TZOFFSETFROM:+0200
TZOFFSETTO:+0100
TZNAME:CET
END:STANDARD
END:VTIMEZONE
END:VCALENDAR