BEGIN:VCALENDAR
VERSION:2.0
PRODID:-//wp-events-plugin.com//5.99912//EN
TZID:Europe/Berlin
X-WR-TIMEZONE:Europe/Berlin
BEGIN:VEVENT
UID:6-11273@wandern.albverein.net
DTSTART;TZID=Europe/Berlin:20260518T140000
DTEND;TZID=Europe/Berlin:20260518T170000
DTSTAMP:20260116T125245Z
URL:https://wandern.albverein.net/events/wandern-plus-hw7-biodiversitaetsl
 ehrpfad-bad-saulgau/
SUMMARY:Wandern +plus+: HW7 Biodiversitätslehrpfad Bad Saulgau - Bahnhof B
 ad Saulgau - 18 Mai 26 14:00
DESCRIPTION:\n\nDie Stadt Bad Saulgau engagiert sich seit Jahrzehnten für 
 die biologische Vielfalt. In der Stadt wurden Freiflächen im großen Umfa
 ng naturnah und artenreich umgestaltet und es gibt vielfältige Angebote z
 ur Naturerfahrung und Umweltbildung. Dazu gehört auch der Biodiversitäts
 lehrpfad. Bei einer Führung mit Thomas Lehenherr\, dem Ersteller der Them
 enpfade in Bad Saulgau\, der "Landeshauptstadt der Biodiversität"\, lerne
 n wir das Konzept und den Lehrpfad kennen. Die Prämisse ist eine atenreic
 he Stadtnatur mit wenig Ressourceneinsatz zu erhalten und zu pflegen. Ein 
 erlebnisreicher Naturspaziergang mitten in der Stadt.\n\nEin kleines Vespe
 r und ausreichend Getränken halten die Energiereserven aufrecht.  Und na
 türlich sind witterungsangepasste Kleidung\, robuste Wanderschuhe und Son
 nenschutz entscheidend für Komfort und Sicherheit unterwegs. Mit all dies
 en Vorbereitungen steht einem unbeschwerten Tag nichts im Wege!\n\n\n\nTre
 ffpunkt: Bahnhof Bad Saulgau\nUhrzeit: 14.00 Uhr\n\nÖPNV: DB Bad Saulgau\
 n\nDauer:  bis ca. 17:00 hr\n\nStrecke: 5\,3 km\n\nReine Gehzeit: 1\,5 St
 d\n\nAuf- und Abstiege: gering\n\nSchwierigkeitsgrad: leicht\n\nTeilnehmer
 beitrag: für Mitglieder kostenlos\, für Nichtmitglieder 10 €\nZur Info
 : Die anfallenden Kosten werden vom Wanderführer vor Ort eingesammelt.\n\
 nAnmeldung: erforderlich bis 10.05.2026\n\nKontakt:Hans-Jürgen Walser\, H
 -J.Walser@gmx.de
CATEGORIES:Wandern
LOCATION:Bahnhof Bad Saulgau\, Karlstr.\, Bad Saulgau\, 88348\, Deutschland
GEO:48.013539;9.50183
X-APPLE-STRUCTURED-LOCATION;VALUE=URI;X-ADDRESS=Karlstr.\, Bad Saulgau\, 88
 348\, Deutschland;X-APPLE-RADIUS=100;X-TITLE=Bahnhof Bad Saulgau:geo:48.01
 3539,9.50183
END:VEVENT
BEGIN:VTIMEZONE
TZID:Europe/Berlin
X-LIC-LOCATION:Europe/Berlin
BEGIN:DAYLIGHT
DTSTART:20260329T030000
TZOFFSETFROM:+0100
TZOFFSETTO:+0200
TZNAME:CEST
END:DAYLIGHT
END:VTIMEZONE
END:VCALENDAR