BEGIN:VCALENDAR
VERSION:2.0
PRODID:-//wp-events-plugin.com//5.99912//EN
TZID:Europe/Berlin
X-WR-TIMEZONE:Europe/Berlin
BEGIN:VEVENT
UID:6-11276@wandern.albverein.net
DTSTART;TZID=Europe/Berlin:20260426T083000
DTEND;TZID=Europe/Berlin:20260426T160000
DTSTAMP:20260116T123952Z
URL:https://wandern.albverein.net/events/wandern-plus-hw7-sportliche-wande
 rung-um-westerheim/
SUMMARY:Wandern +plus+: HW7 Sportliche Wanderung um Westerheim - Lorettokap
 elle Westerheim - 26 Apr. 26 08:30
DESCRIPTION:Westerheim ist ein malerisches Dorf auf der Schwäbischen Alb.S
 eine idyllische Lage\, eingebettet zwischen den Hügeln der Schwäbischen 
 Alb lädt zum Wandern ein.\n\nAn der Lorettokapelle startet die Wanderung 
 rund um das Albdorf und bietet alles\, was die Schwäbische Alb so besonde
 rs macht.\n\nEin gut gepackter Rucksack mit Verpflegung und ausreichend Ge
 tränken ist ein Muss\, um die Energiereserven aufrechtzuerhalten. Und nat
 ürlich sind witterungsangepasste Kleidung\, robuste Wanderschuhe und Sonn
 enschutz entscheidend für Komfort und Sicherheit unterwegs. Mit all diese
 n Vorbereitungen steht einem unbeschwerten Tag nichts im Wege!\n\n\n\nTref
 fpunkt: Lorettokapelle Westerheim\nUhrzeit: 8.30 Uhr\n\nDauer:  bis ca. 1
 6.00 Uhr\n\nStrecke    21 km\n\nReine Gehzeit   6 Std\n\nAuf- und Abst
 iege: 480 m\n\nSchwierigkeitsgrad: schwierig\n\nTeilnehmerbeitrag: für Mi
 tglieder kostenlos\, für Nichtmitglieder 10 €\nZur Info: Die anfallende
 n Kosten werden vom Wanderführer vor Ort eingesammelt.\n\nAnmeldung erfor
 derlich bis zum 20. April an Jeannette Reuss\, jereuss@gmx.de
CATEGORIES:Wandern
LOCATION:Lorettokapelle Westerheim\, Wiesensteiger Str.\, Westerheim\, 7258
 9\, Deutschland
GEO:48.518538;9.623899
X-APPLE-STRUCTURED-LOCATION;VALUE=URI;X-ADDRESS=Wiesensteiger Str.\, Wester
 heim\, 72589\, Deutschland;X-APPLE-RADIUS=100;X-TITLE=Lorettokapelle Weste
 rheim:geo:48.518538,9.623899
END:VEVENT
BEGIN:VTIMEZONE
TZID:Europe/Berlin
X-LIC-LOCATION:Europe/Berlin
BEGIN:DAYLIGHT
DTSTART:20260329T030000
TZOFFSETFROM:+0100
TZOFFSETTO:+0200
TZNAME:CEST
END:DAYLIGHT
END:VTIMEZONE
END:VCALENDAR