BEGIN:VCALENDAR
VERSION:2.0
PRODID:-//wp-events-plugin.com//5.99912//EN
TZID:Europe/Berlin
X-WR-TIMEZONE:Europe/Berlin
BEGIN:VEVENT
UID:6-11270@wandern.albverein.net
DTSTART;TZID=Europe/Berlin:20260501T093000
DTEND;TZID=Europe/Berlin:20260501T140000
DTSTAMP:20260410T142233Z
URL:https://wandern.albverein.net/events/wandern-plus-hw7-ueber-huetten-zu
 m-historischen-pumpwerk-nach-teuringshofen/
SUMMARY:Wandern +plus+: HW7 von Weilersteußlingen zum historischen Pumpwer
 k nach Teuringshofen - Wanderheim Farrenstall - 1 Mai 26 09:30
DESCRIPTION:\n\nBeginnend am Wanderheim Farrenstall auf den Lutherischen Be
 rgen wandern wir auf dem HW7 nach Hütten. Weiter geht es ein Stück auf d
 em HW2 vorbei am Mühlrad der ehemaligen Mühle in Talsteußlingen zum His
 torischen Pumpwerk in Teuringshofen.\n\nDas erste Pumpwerk der Albwasserve
 rsorgung aus dem Jahr 1870 zeigt\, wie das Wasser auf die Albhochfläche n
 ach Justingen gepumpt wurde. Sein Erbauer ist der bekannte Ingenieur Karl 
 Ehmann. Heute kann das technische Baudenkmal und Museum\, das direkt am Wa
 nderweg „Albwassertour“ liegt\, im Rahmen einer Führung besichtigt we
 rden.\n\n„Mehr über das Mühlrad in Talsteußlingen  und das Pumpwerk 
 ist im Infoflyer der Albwassertour zu erfahren.“\n\nEin gut gepackter Ru
 cksack mit Verpflegung und ausreichend Getränken hält die Energiereserve
 n aufrechtzu. Und natürlich sind witterungsangepasste Kleidung\, robuste 
 Wanderschuhe und Regen- bzw. Sonnenschutz entscheidend für Komfort und Si
 cherheit unterwegs. Mit all diesen Vorbereitungen steht einem unbeschwerte
 n Tag nichts im Wege!\n\n\n\nTreffpunkt: Wanderheim Farrenstall\, Weilerst
 eußlingen\nUhrzeit: 9.30 Uhr\n\nDauer:  bis ca. 14.00 Uhr\n\nStrecke: 9 
 km\n\nReine Gehzeit: 2\,5 Std\n\nAuf- und Abstiege: 120 m\n\nSchwierigkeit
 sgrad: leicht\n\nEinkehr: Pumpwerk in Teuringshofen\n\nTeilnehmerbeitrag: 
 für Mitglieder kostenlos\, für Nichtmitglieder 10 €\nZur Info: Die anf
 allenden Kosten werden vom Wanderführer vor Ort eingesammelt.\n\nAnmeldun
 g: erforderlich bis  28.04.2026\n\nKontakt: Christina Heilig\, Tel. 0738
 4-3599884\, WhatsApp: 07384-8409990\,\nMail: albverein.og.weilersteussling
 en@web.de
CATEGORIES:Wandern
LOCATION:Wanderheim Farrenstall\, Grießtalstraße 40\, Allmendingen-Weiler
 steußlingen\, 89604\, Deutschland
GEO:48.344551;9.653086
X-APPLE-STRUCTURED-LOCATION;VALUE=URI;X-ADDRESS=Grießtalstraße 40\, Allme
 ndingen-Weilersteußlingen\, 89604\, Deutschland;X-APPLE-RADIUS=100;X-TITL
 E=Wanderheim Farrenstall:geo:48.344551,9.653086
END:VEVENT
BEGIN:VTIMEZONE
TZID:Europe/Berlin
X-LIC-LOCATION:Europe/Berlin
BEGIN:DAYLIGHT
DTSTART:20260329T030000
TZOFFSETFROM:+0100
TZOFFSETTO:+0200
TZNAME:CEST
END:DAYLIGHT
END:VTIMEZONE
END:VCALENDAR