BEGIN:VCALENDAR
VERSION:2.0
PRODID:-//wp-events-plugin.com//5.99912//EN
TZID:Europe/Berlin
X-WR-TIMEZONE:Europe/Berlin
BEGIN:VEVENT
UID:6-11272@wandern.albverein.net
DTSTART;TZID=Europe/Berlin:20260719T093000
DTEND;TZID=Europe/Berlin:20260719T153000
DTSTAMP:20260115T190256Z
URL:https://wandern.albverein.net/events/wandern-plus-hw7-von-bad-saulgau-
 nach-altshausen/
SUMMARY:Wandern +plus+: HW7 Von Bad Saulgau nach Altshausen - Bahnhof Bad S
 aulgau - 19 Juli 26 09:30
DESCRIPTION:\n\nZwei malerische Städte in Oberschwaben lassen bei dieser W
 anderung verbinden.\n\nDie ersten Km führen durch ein sanftes Bachtal zum
  Kloster Sießen. Der Klostergarten ist ein echter Ruhepol. Weiter geht es
  durch Wald und grünen Fluren. Durch Tal des Mühlbaches erreicht man den
  Alten Weiher. Das umgebende Ried ist ein idyllisches Naturschutzgebiet. A
 m Ostufer beginnt Altshausen - Kapellen\, das Heilige Grab und das Schloss
  mit weitem Innenhof und den prächtigen Gebäuden laden zur Besichtigung 
 ein.\n\nEin gut gepackter Rucksack mit Verpflegung und ausreichend Geträn
 ken ist ein Muss\, um die Energiereserven aufrechtzuerhalten. Und natürli
 ch sind witterungsangepasste Kleidung\, robuste Wanderschuhe und Sonnensch
 utz entscheidend für Komfort und Sicherheit unterwegs. Mit all diesen Vor
 bereitungen steht einem unbeschwerten Tag nichts im Wege!\n\n\n\nTreffpunk
 t: Bahnhof Bad Saulgau\nUhrzeit: 9.30 Uhr\n\nÖPNV: DB Bad Saulgau und Alt
 shausen\n\nDauer:  bis ca. 15:30 Uhr\n\nStrecke: 14 km\n\nReine Gehzeit: 
 4 Std\n\nAuf- und Abstiege: 100 m\n\nSchwierigkeitsgrad: mittel\n\nStrecke
 nwanderung: Rückfahrt von Altshausen mit ÖPNV\n\nEinkehr: Rucksackvesper
 \n\nTeilnehmerbeitrag: für Mitglieder kostenlos\, für Nichtmitglieder 10
  €\nZur Info: Die anfallenden Kosten werden vom Wanderführer vor Ort ei
 ngesammelt.\n\nAnmeldung: erforderlich bis 05.07.2026\n\nKontakt:\nAnton M
 üller – nonny48@web.de  Tel. 07584-2216\nAchim Dietrich – achim-diet
 rich@web.de Tel. 07584-2658\nRosi Mayer – rosi.mayer.altshausen@t-online
 .de Tel. 07584-1464
CATEGORIES:Wandern
LOCATION:Bahnhof Bad Saulgau\, Karlstr.\, Bad Saulgau\, 88348\, Deutschland
GEO:48.013539;9.50183
X-APPLE-STRUCTURED-LOCATION;VALUE=URI;X-ADDRESS=Karlstr.\, Bad Saulgau\, 88
 348\, Deutschland;X-APPLE-RADIUS=100;X-TITLE=Bahnhof Bad Saulgau:geo:48.01
 3539,9.50183
END:VEVENT
BEGIN:VTIMEZONE
TZID:Europe/Berlin
X-LIC-LOCATION:Europe/Berlin
BEGIN:DAYLIGHT
DTSTART:20260329T030000
TZOFFSETFROM:+0100
TZOFFSETTO:+0200
TZNAME:CEST
END:DAYLIGHT
END:VTIMEZONE
END:VCALENDAR