BEGIN:VCALENDAR
VERSION:2.0
PRODID:-//wp-events-plugin.com//5.99912//EN
TZID:Europe/Berlin
X-WR-TIMEZONE:Europe/Berlin
BEGIN:VEVENT
UID:6-11309@wandern.albverein.net
DTSTART;TZID=Europe/Berlin:20260509T140000
DTEND;TZID=Europe/Berlin:20260509T180000
DTSTAMP:20260225T072039Z
URL:https://wandern.albverein.net/events/wandern-plus-inklusive-wanderung-
 in-stetten-zur-y-burg-und-kugelbahn/
SUMMARY:Wandern +plus+: Inklusive Wanderung in Stetten zur Y-Burg und Kugel
 bahn - Bushaltestelle Freibad Kernen-Stetten - 9 Mai 26 14:00
DESCRIPTION:\n\nHeute wandern wir inklusiv - d. h. die Wanderung ist für M
 enschen mit und ohne Behinderung. Direkt von der Diakonie Stetten aus geht
  es hoch zur Y-Burg. Die Bronzeplastiken von Karl-Ullrich Nuss säumen uns
 eren Weg. Von dort aus gehen wir zum Aussichtspunkt "7-Linden" und geniess
 en den herrlichen Blick hinunter ins Remstal. Beim Sängerheim haben wir u
 nseren "Gipfel" erreicht und machen Rast. Dann folgt der "spaßige" Teil d
 er Wanderung - die herzogliche Kugelbahn. Die Kugelbahn verläuft auf 1\,5
  km Strecke\, ist selbst 800 m lang und hat 25 Stationen. Über den Klette
 rgarten des DAV steigen wir hinab und kommen zum Abenteurspielplatz im Hal
 denbachtal. Dort darf nochmals gespielt werden. Über einen kurzen Teil de
 s Schafwanderweges kommen wir wieder zurück nach Stetten.\n\nEin gut gepa
 ckter Rucksack mit Verpflegung und ausreichend Getränken ist ein Muss\, u
 m die Energiereserven aufrechtzuerhalten. Und natürlich sind witterungsan
 gepasste Kleidung\, robuste Wanderschuhe und Sonnenschutz entscheidend fü
 r Komfort und Sicherheit unterwegs. Mit all diesen Vorbereitungen steht ei
 nem unbeschwerten Tag nichts im Wege!\n\n\n\nWandern plus: &lt\;a href="ht
 tps://www.flaticon.com/free-icons/hiking" title="hiking icons"&gt\;Hiking 
 icons created by Made by Made Premium - Flaticon&lt\;/a&gt\;\n\nTreffpunkt
 :14.00 Uhr\, Bushaltestelle Freibad\, Kirchstraße\, 71394 Kernen-Stetten\
 n\nÖPNV: Bus Linie 219 bis Haltestelle Freibad\n\nDauer: bis ca. 18.00 Uh
 r\n\nStrecke: 5\,5 km\n\nReine Gehzeit: 2 1/4 Std.\n\nAuf- und Abstiege: 1
 40 m\n\nSchwierigkeitsgrad: leicht\n\nRundwanderung\n\nEinkehr: falls geö
 ffnet an der Hütte des ehemaligen Sängerheims\n\nTeilnehmerbeitrag: für
  Mitglieder kostenlos\, für Nichtmitglieder 10 €\nZur Info: Die anfalle
 nden Kosten werden vom Wanderführer vor Ort eingesammelt.\n\nZusätzliche
  Kosten: evtl. für ÖPNV und 50 ct. für eine Kugel für die Kugelbahn (b
 itte passend mitbringen\, da es ein Automat ist)\n\nAnmeldung: direkt bei 
 der VHS Unteres Remstal \n\nKontakt: Jörg Bonn\, joerg.bonn@berg-len-out
 door.de\nHomepage: https://www.berg-len-outdoor.de/wanderführer/termine-2
 026/
CATEGORIES:Wandern
LOCATION:Bushaltestelle Freibad Kernen-Stetten\, Kirchstraße\, Kernen-Stet
 ten\, 71394\, Deutschland
GEO:48.791881;9.34279
X-APPLE-STRUCTURED-LOCATION;VALUE=URI;X-ADDRESS=Kirchstraße\, Kernen-Stett
 en\, 71394\, Deutschland;X-APPLE-RADIUS=100;X-TITLE=Bushaltestelle Freibad
  Kernen-Stetten:geo:48.791881,9.34279
END:VEVENT
BEGIN:VTIMEZONE
TZID:Europe/Berlin
X-LIC-LOCATION:Europe/Berlin
BEGIN:DAYLIGHT
DTSTART:20260329T030000
TZOFFSETFROM:+0100
TZOFFSETTO:+0200
TZNAME:CEST
END:DAYLIGHT
END:VTIMEZONE
END:VCALENDAR