BEGIN:VCALENDAR
VERSION:2.0
PRODID:-//wp-events-plugin.com//5.99912//EN
TZID:Europe/Berlin
X-WR-TIMEZONE:Europe/Berlin
BEGIN:VEVENT
UID:6-11312@wandern.albverein.net
DTSTART;TZID=Europe/Berlin:20260919T130000
DTEND;TZID=Europe/Berlin:20260919T163000
DTSTAMP:20260225T133925Z
URL:https://wandern.albverein.net/events/wandern-plus-inklusive-wanderung-
 weisser-pfad-in-winterbach/
SUMMARY:Wandern +plus+: Inklusive Wanderung - Weißer Pfad in Winterbach - 
 Bahnhof Winterbach - 19 Sep. 26 13:00
DESCRIPTION:\n\nTeil 2 unserer inklusiven Wanderungen führt uns heute nach
  Winterbach. Wir folgen dem "Weißen Pfad". Dies ist ein Wanderweg mit tol
 len Aussichten auf das Remstal\, der uns hoch nach Engelberg führt. Über
  das NSG Hirschäcker gelangen wir zu einem Mammutbaum\, einer Imerkerei u
 nd einer Stahlskulptur. Kurz vor Schluss dann das Highlight - das Bauwerk
  "Monopteros" - ein Überbleibsel der Remstal-Gartenschau aus dem Jahre 20
 19. Staunen und Mitmachen ist angesagt.\n\nEin gut gepackter Rucksack mit
  Verpflegung und ausreichend Getränken ist ein Muss\, um die Energiereser
 ven aufrechtzuerhalten. Und natürlich sind witterungsangepasste Kleidung\
 , robuste Wanderschuhe und Sonnenschutz entscheidend für Komfort und Sich
 erheit unterwegs. Mit all diesen Vorbereitungen steht einem unbeschwerten 
 Tag nichts im Wege!\n\nBitte beachten: Die Strecke ist nicht rollstuhl-ge
 eignet!\nDie Wanderung findet in Kooperation mit der Volkshochschule Unter
 es Remstal\, Diakonie Stetten und Schwäbischer Albverein statt.\n\n\n\nWa
 ndern plus: &lt\;a href="https://www.flaticon.com/free-icons/hiking" title
 ="hiking icons"&gt\;Hiking icons created by Made by Made Premium - Flatico
 n&lt\;/a&gt\;\n\nTreffpunkt: 13.00 Uhr\, Bahnhof Winterbach\, Bahnhofstra
 ße 1\, 73650 Winterbach\n\nÖPNV: S-Bahn Linie 2\n\nDauer: bis ca. 16.30 
 Uhr\n\nStrecke: 5\,8 km\n\nReine Gehzeit: 2 Std.\n\nAuf- und Abstiege: 142
  m\n\nSchwierigkeitsgrad: leicht\n\nRundwanderung\n\nEinkehr: bei Bedarf n
 ach der Wanderung in einem Café in Winterbach\n\nTeilnehmerbeitrag: für 
 Mitglieder kostenlos\, für Nichtmitglieder 10 €\nZur Info: Die anfallen
 den Kosten werden vom Wanderführer vor Ort eingesammelt.\n\nZusätzliche 
 Kosten: fallen keine an\n\nAnmeldung: direkt bei der VHS Unteres Remstal 
 \n\nKontakt: Jörg Bonn\, joerg.bonn@berg-len-outdoor.de\nHomepage: https:
 //www.berg-len-outdoor.de/wanderführer/termine-2026/\n\n&nbsp\;
CATEGORIES:Wandern
LOCATION:Bahnhof Winterbach\, Bahnhofstr. 1\, Winterbach\, 73650\, Deutschl
 and
GEO:48.798921201733606;9.48146161376953
X-APPLE-STRUCTURED-LOCATION;VALUE=URI;X-ADDRESS=Bahnhofstr. 1\, Winterbach\
 , 73650\, Deutschland;X-APPLE-RADIUS=100;X-TITLE=Bahnhof Winterbach:geo:48
 .798921201733606,9.48146161376953
END:VEVENT
BEGIN:VTIMEZONE
TZID:Europe/Berlin
X-LIC-LOCATION:Europe/Berlin
BEGIN:DAYLIGHT
DTSTART:20260329T030000
TZOFFSETFROM:+0100
TZOFFSETTO:+0200
TZNAME:CEST
END:DAYLIGHT
END:VTIMEZONE
END:VCALENDAR