BEGIN:VCALENDAR
VERSION:2.0
PRODID:-//wp-events-plugin.com//5.99912//EN
TZID:Europe/Berlin
X-WR-TIMEZONE:Europe/Berlin
BEGIN:VEVENT
UID:6-10878@wandern.albverein.net
DTSTART;TZID=Europe/Berlin:20260530T203000
DTEND;TZID=Europe/Berlin:20260531T020000
DTSTAMP:20260225T130124Z
URL:https://wandern.albverein.net/events/wandern-plus-mal-was-anderes-wand
 ern-im-dunkeln/
SUMMARY:Wandern +plus+: Nachtwanderung in den Berglen - Bushaltestelle Oppe
 lsbohm Ortsmitte - 30 Mai 26 20:30
DESCRIPTION:\n\nHeute wollen wir mal was Neues machen und wandern durch die
  Nacht. Ohne Licht gibt es viele neue Eindrücke und Geräusche zu entdeck
 en. Mit etwas Glück beleuchtet der Mond unseren Weg. DieTour führt uns e
 inmal "Rund um Oppelsbohm".\nLass dich überraschen was die Nacht zu biete
 n hat.\n\n\n\nEin gut gepackter Rucksack mit Verpflegung und ausreichend G
 etränken ist ein Muss\, um die Energiereserven aufrechtzuerhalten. Und na
 türlich sind witterungsangepasste Kleidung und robuste Wanderschuhe entsc
 heidend für Komfort und Sicherheit unterwegs. Bitte Stirn- oder Taschenla
 mpe (Ersatzbatterien nicht vergessen!)\, Sitzkissen und evtl. Wanderstöck
 e mitbringen.\nMit all diesen Vorbereitungen steht einer unbeschwerten Wan
 derung nichts im Wege!\n\nBitte beachten: Die Wanderung findet nur bei tro
 ckener Witterung statt.\nBitte Hinweise beachten unter www.berg-len-outdoo
 r.de\n\nTreffpunkt: 20.30 Uhr\, Bushaltestelle Oppelsbohm Ortsmitte\, Beet
 hovenstraße\, 73663 Berglen-Oppelbohm\nPKW-Parkplätze gibt es in der Ort
 smitte beim Ärtzehaus oder Gemeindehaus\n\nÖPNV: aus Richting Winnenden 
 Bus-Linien 330\, 336 und 337\naus Richtung Schorndorf Bus-Linien 234 und 2
 44\nBitte beachten: Nach Beendigung der Wanderung fahren keine Busse mehr!
 \n\nStrecke: 14\,7 km\n\nReine Gehzeit: 4 Std.\n\nAuf- und Abstiege: 191 m
 \n\nSchwierigkeitsgrad: mittel\n\nRundwanderung\n\nEinkehr: nicht vorgeseh
 en\n\nTeilnehmerbeitrag: für Mitglieder kostenlos\, für Nichtmitglieder 
 10 €\nZur Info: Die anfallenden Kosten werden vom Wanderführer vor Ort 
 eingesammelt.\n\nAnmeldung: erforderlich bis zum 27. Mai 2026\, max. 20 TN
 \nBitte bei der Anmeldung die Mobilfunk-Nummer angeben!\n\nKontakt: Jörg 
 Bonn\, 07195 74369\, joerg.bonn@berg-len-outdoor.de
CATEGORIES:Wandern
LOCATION:Bushaltestelle Oppelsbohm Ortsmitte\, Beethovenstraße\, Berglen-O
 ppelsbohm\, 73663\, Deutschland
GEO:48.861101;9.469084
X-APPLE-STRUCTURED-LOCATION;VALUE=URI;X-ADDRESS=Beethovenstraße\, Berglen-
 Oppelsbohm\, 73663\, Deutschland;X-APPLE-RADIUS=100;X-TITLE=Bushaltestelle
  Oppelsbohm Ortsmitte:geo:48.861101,9.469084
END:VEVENT
BEGIN:VTIMEZONE
TZID:Europe/Berlin
X-LIC-LOCATION:Europe/Berlin
BEGIN:DAYLIGHT
DTSTART:20260329T030000
TZOFFSETFROM:+0100
TZOFFSETTO:+0200
TZNAME:CEST
END:DAYLIGHT
END:VTIMEZONE
END:VCALENDAR