BEGIN:VCALENDAR
VERSION:2.0
PRODID:-//wp-events-plugin.com//5.99912//EN
TZID:Europe/Berlin
X-WR-TIMEZONE:Europe/Berlin
BEGIN:VEVENT
UID:6-6682@wandern.albverein.net
DTSTART;TZID=Europe/Berlin:20260912T100000
DTEND;TZID=Europe/Berlin:20260912T170000
DTSTAMP:20250915T085840Z
URL:https://wandern.albverein.net/events/wandern-plus-mit-dem-roessle-vom-
 nesenbach-ins-neckartal/
SUMMARY:Wandern +plus+: Mit dem Rößle vom Nesenbach ins Neckartal - Stadt
 bahn-Haltestelle Vogelrain - 12 Sep. 26 10:00
DESCRIPTION:\n\nWarum Stuttgart nicht am Neckar liegt\, was Schiller uns zu
  sagen hat und was es sonst noch so alles zu entdecken gibt. Wir erkunden 
 die Landeshauptstadt auf den Spuren des Stuttgarter Rössle: Wald\, Wein u
 nd weite Sichten…\nVom Nesenbachtal geht es über den Waldfriedhof zur W
 einsteige und weiter über die Gerocksruhe ins Neckartal nach Hedelfingen.
 \n\nBitte Rucksackvesper und ausreichend Getränke mitbringen. Und denken 
 Sie an witterungsangepasste Kleidung\, gute Wanderschuhe und Sonnenschutz 
 / Sonnencreme.\n\n\n\nTreffpunkt: 10.00 Uhr\, VVS-Haltestelle Vogelrain\, 
 70199 Stuttgart\n\nDauer: bis ca. 17.00 Uhr\n\nStrecke: 14\,5 km\n\nReine 
 Gehzeit: 4\,5 Std.\n\nAufstiege: 250 m\, Abstiege: 310 m\n\nStreckenwander
 ung\, Rückfahrt mit VVS Stuttgart\n\nEinkehr: Schlusseinkehr nach Vereinb
 arung\n\nTeilnehmerbeitrag: für Mitglieder kostenlos\, für Nichtmitglied
 er 10 €\nZur Info: Die anfallenden Kosten werden vom Wanderführer / der
  Wanderführerin vor Ort eingesammelt.\n\nAnmeldung: erforderlich bis zum 
 9. September 2026\n\nKontakt: Silvia und Achim Maaß\, 0711 7356460\, 0171
  8692012\, silach@t-online.de
CATEGORIES:Wandern
LOCATION:Stadtbahn-Haltestelle Vogelrain\, Vogelrain\, Stuttgart-Heslach\, 
 70199\, Deutschland
GEO:48.753554;9.138222
X-APPLE-STRUCTURED-LOCATION;VALUE=URI;X-ADDRESS=Vogelrain\, Stuttgart-Hesla
 ch\, 70199\, Deutschland;X-APPLE-RADIUS=100;X-TITLE=Stadtbahn-Haltestelle 
 Vogelrain:geo:48.753554,9.138222
END:VEVENT
BEGIN:VTIMEZONE
TZID:Europe/Berlin
X-LIC-LOCATION:Europe/Berlin
BEGIN:DAYLIGHT
DTSTART:20260329T030000
TZOFFSETFROM:+0100
TZOFFSETTO:+0200
TZNAME:CEST
END:DAYLIGHT
END:VTIMEZONE
END:VCALENDAR