BEGIN:VCALENDAR
VERSION:2.0
PRODID:-//wp-events-plugin.com//5.99912//EN
TZID:Europe/Berlin
X-WR-TIMEZONE:Europe/Berlin
BEGIN:VEVENT
UID:6-10940@wandern.albverein.net
DTSTART;TZID=Europe/Berlin:20261016T080000
DTEND;TZID=Europe/Berlin:20261016T140000
DTSTAMP:20251020T125845Z
URL:https://wandern.albverein.net/events/wandern-plus-rund-um-den-stuttgar
 ter-frauenkopf/
SUMMARY:Wandern +plus+: Rund um den Stuttgarter Frauenkopf - Stadtbahn-Halt
 estelle Ruhbank - 16 Okt. 26 08:00
DESCRIPTION:\n\nWandelwege: Historische Wege: In Stuttgart-Wangen gibt es z
 um Beispiel die bekannten „Wandelwege“\, eine Route durch die Natur mi
 t besonderen Details wie Trockenmauern\, Treppen\, Brunnen und Aussichtspu
 nkten. Auf der Wangener Höhe werden immer mehr Gärten und Weinberge aufg
 egeben\, die Landschaft wächst zu. Damit verfallen auch Trockenmauern und
  jahrhundertealte Fußpfade\, so genannte Wandel oder„Gwandwege“\, die
  zur Bewirtschaftung erbaut wurden. Um sie wieder begehbar zu machen\, wer
 den die Wege durch das „Wandelprojekt“ geputzt und freigeschnitten und
  Mauern repariert. Auch die Natur profitiert vom Erhalt der vielfältigen 
 Lebensräume.\n\nEin gut gepackter Rucksack mit Verpflegung und ausreichen
 d Getränken ist ein Muss\, um die Energiereserven aufrechtzuerhalten. Und
  natürlich sind witterungsangepasste Kleidung\, robuste Wanderschuhe und 
 Sonnenschutz entscheidend für Komfort und Sicherheit unterwegs. Mit all d
 iesen Vorbereitungen steht einem unbeschwerten Tag nichts im Wege!\n\n\n\n
 Treffpunkt: 8.00 Uhr\, U-Bahn-Haltestelle "Ruhbank"\n\nÖPNV: möglich mit
  U7\, U8 und U15\n\nDauer: bis ca. 14.00 Uhr\n\nStrecke: 14 km\n\nReine Ge
 hzeit: 4 Std.\n\nAuf- und Abstiege: 330 m\n\nSchwierigkeitsgrad: mittel\n\
 nRundwanderung\n\nEinkehr: möglich im Biergarten Friedrichsruh\, auf der 
 Waldau\n\nTeilnehmerbeitrag: für Mitglieder kostenlos\, für Nichtmitglie
 der 10 €\nZur Info: Die anfallenden Kosten werden vom Wanderführer vor 
 Ort eingesammelt.\n\nZusätzliche Kosten: fallen keine an\n\nAnmeldung: er
 forderlich bis zum 13. Oktober 2026\n\nKontakt: Dieter Bounin\, ichhabe@lu
 staufteck.de
CATEGORIES:Wandern
LOCATION:Stadtbahn-Haltestelle Ruhbank\, Ruhbank\, Stuttgart\, Deutschland
GEO:48.753517;9.194931
X-APPLE-STRUCTURED-LOCATION;VALUE=URI;X-ADDRESS=Ruhbank\, Stuttgart\, Deuts
 chland;X-APPLE-RADIUS=100;X-TITLE=Stadtbahn-Haltestelle Ruhbank:geo:48.753
 517,9.194931
END:VEVENT
BEGIN:VTIMEZONE
TZID:Europe/Berlin
X-LIC-LOCATION:Europe/Berlin
BEGIN:DAYLIGHT
DTSTART:20260329T030000
TZOFFSETFROM:+0100
TZOFFSETTO:+0200
TZNAME:CEST
END:DAYLIGHT
END:VTIMEZONE
END:VCALENDAR