BEGIN:VCALENDAR
VERSION:2.0
PRODID:-//wp-events-plugin.com//5.99912//EN
TZID:Europe/Berlin
X-WR-TIMEZONE:Europe/Berlin
BEGIN:VEVENT
UID:6-10939@wandern.albverein.net
DTSTART;TZID=Europe/Berlin:20260919T080000
DTEND;TZID=Europe/Berlin:20260919T170000
DTSTAMP:20251020T125433Z
URL:https://wandern.albverein.net/events/wandern-plus-ueber-den-hochgrat/
SUMMARY:Wandern +plus+: Über den Hochgrat - Parkplatz Hochgratbahn - 19 Se
 p. 26 08:00
DESCRIPTION:Mit 1834 m ist der Hochgrat der höchste Gipfel im Naturpark Na
 gelfluhkette. Vom Grat aus hat man eine faszinierende Aussicht auf über 3
 00 Gipfel\, den Bodensee und die Hügel des Westallgäus.\n\nEin gut gepac
 kter Rucksack mit Verpflegung und ausreichend Getränken ist ein Muss\, um
  die Energiereserven aufrechtzuerhalten. Und natürlich sind witterungsang
 epasste Kleidung\, robuste Wanderschuhe und Sonnenschutz entscheidend für
  Komfort und Sicherheit unterwegs. Mit all diesen Vorbereitungen steht ein
 em unbeschwerten Tag nichts im Wege!\n\n\n\nTreffpunkt: 8.00 Uhr\, Parkpla
 tz Hochgratbahn\, Lanzenbach 5\, 87534 Oberstaufen-Steibis\n\nÖPNV: leide
 r nicht möglich\n\nDauer: bis ca. 17.00 Uhr\n\nStrecke: 18 km\n\nReine Ge
 hzeit: 7 Std.\n\nAuf- und Abstiege: 1140 m\n\nSchwierigkeitsgrad: anspruch
 svoll\n\nRundwanderung\n\nEinkehr:\n\nTeilnehmerbeitrag: für Mitglieder k
 ostenlos\, für Nichtmitglieder 10 €\nZur Info: Die anfallenden Kosten w
 erden vom Wanderführer vor Ort eingesammelt.\n\nZusätzliche Kosten: fall
 en keine an\n\nAnmeldung: erforderlich bis zum 16. September 2026\n\nKonta
 kt: Dieter Bounin\, ichhabe@lustaufteck.de
CATEGORIES:Wandern
LOCATION:Parkplatz Hochgratbahn\, Lanzenbach 5\, Oberstaufen\, 87534\, Deut
 schland
GEO:47.510265;10.059401
X-APPLE-STRUCTURED-LOCATION;VALUE=URI;X-ADDRESS=Lanzenbach 5\, Oberstaufen\
 , 87534\, Deutschland;X-APPLE-RADIUS=100;X-TITLE=Parkplatz Hochgratbahn:ge
 o:47.510265,10.059401
END:VEVENT
BEGIN:VTIMEZONE
TZID:Europe/Berlin
X-LIC-LOCATION:Europe/Berlin
BEGIN:DAYLIGHT
DTSTART:20260329T030000
TZOFFSETFROM:+0100
TZOFFSETTO:+0200
TZNAME:CEST
END:DAYLIGHT
END:VTIMEZONE
END:VCALENDAR