BEGIN:VCALENDAR
VERSION:2.0
PRODID:-//wp-events-plugin.com//5.99912//EN
TZID:Europe/Berlin
X-WR-TIMEZONE:Europe/Berlin
BEGIN:VEVENT
UID:6-10388@wandern.albverein.net
DTSTART;TZID=Europe/Berlin:20260704T120000
DTEND;TZID=Europe/Berlin:20260704T160000
DTSTAMP:20251020T100533Z
URL:https://wandern.albverein.net/events/wandern-plus-ueber-die-grenze-zum
 -gespaltenen-felsen/
SUMMARY:Wandern +plus+: Über die Grenze zum gespaltenen Felsen - Parkplatz
  beim Lochenstein - 4 Juli 26 12:00
DESCRIPTION:\n\nGleich zu Beginn unserer Wanderung überqueren wir eine ehe
 malige Grenze\, es geht durch einen herrlichen Wald und auf Serpentinen ge
 langen wir zum Schafberg. Weiter geht es zu unserem höchsten Punkt für h
 eute knapp unter der 1000 Meter Marke. Beim Gespaltenen Felsen können wir
  einen Blick in unsere Erdgeschichte werfen. Nicht weit davon entfernt\, b
 evor wir auf den Lochen hoch gehen\, kommen wir an einem Grillplatz vorbei
 . Hier werden wir eine größere Pause einlegen.\nDie Rundwanderung führt
  teils am Albtrauf entlang und ist mit herrlichen Blicken garniert.\n\nEin
  gut gepackter Rucksack mit Verpflegung und ausreichend Getränken ist ein
  Muss\, um die Energiereserven aufrechtzuerhalten. Und natürlich sind wit
 terungsangepasste Kleidung\, robuste Wanderschuhe und Sonnenschutz entsche
 idend für Komfort und Sicherheit unterwegs. Mit all diesen Vorbereitungen
  steht einem unbeschwerten Tag nichts im Wege!\n\n\n\nTreffpunkt: 12.00 Uh
 r\, Parkplatz Lochen an der L440 von Weilstetten nach Tieringen\n\nDauer: 
 bis ca. 16.00 Uhr\n\nStrecke: 9 km\n\nReine Gehzeit: 3 Std.\n\nAuf- und Ab
 stiege: 300 m\n\nSchwierigkeitsgrad: leicht - mittel\n\nRundwanderung\n\nT
 eilnehmerbeitrag: für Mitglieder kostenlos\, für Nichtmitglieder 10 €\
 nZur Info: Die anfallenden Kosten werden vom Wanderführer vor Ort eingesa
 mmelt.\n\nAnmeldung: erforderlich bis zum 1. Juli 2026\n\nKontakt: Peter E
 iler\, eiler.p@t-online.de\n\n&nbsp\;
CATEGORIES:Wandern
LOCATION:Parkplatz beim Lochenstein\, L440\, Hausen am Tann\, 72361\, Deuts
 chland
GEO:48.2177;8.852403
X-APPLE-STRUCTURED-LOCATION;VALUE=URI;X-ADDRESS=L440\, Hausen am Tann\, 723
 61\, Deutschland;X-APPLE-RADIUS=100;X-TITLE=Parkplatz beim Lochenstein:geo
 :48.2177,8.852403
END:VEVENT
BEGIN:VTIMEZONE
TZID:Europe/Berlin
X-LIC-LOCATION:Europe/Berlin
BEGIN:DAYLIGHT
DTSTART:20260329T030000
TZOFFSETFROM:+0100
TZOFFSETTO:+0200
TZNAME:CEST
END:DAYLIGHT
END:VTIMEZONE
END:VCALENDAR