BEGIN:VCALENDAR
VERSION:2.0
PRODID:-//wp-events-plugin.com//5.99912//EN
TZID:Europe/Berlin
X-WR-TIMEZONE:Europe/Berlin
BEGIN:VEVENT
UID:6-11304@wandern.albverein.net
DTSTART;TZID=Europe/Berlin:20260719T100000
DTEND;TZID=Europe/Berlin:20260719T180000
DTSTAMP:20260216T140522Z
URL:https://wandern.albverein.net/events/wandern-plus-ungefaehr-25-000-sch
 ritte/
SUMMARY:Wandern +plus+: Ungefähr 25 000 Schritte - Stadtbahn-Haltestelle S
 tuttgart-Vaihingen - 19 Juli 26 10:00
DESCRIPTION:\n\nSommertour durch Stuttgarts waldreichen Westen\n\nIm Schatt
 en der Wälder des Stuttgarter Westens haben sich vor Jahrhunderten nicht 
 nur Fuchs und Hase\, Rot- und Schwarzwild wohlgefühlt. Auch herzogliche u
 nd königliche Jagdgesellschaften genossen die Sommerfrische rund um das G
 lemstal. Wir wandern von Vaihingen durchs Rosental über den Katzenbach zu
 r Glems. Dann gehen wir weiter zu den Bärenseen und zum Bärenschössle\,
  folgen eine Weile den Bernhardsbach und erreichen schließlich das Schlos
 s Solitude. Von dort geht’s nur noch bergab. Zwischen Bergheim und Giebe
 l haben wir mit der U 6 wieder Anschluss ans Stuttgarter Nahverkehrsnetz.\
 n\nEin gut gepackter Rucksack mit Verpflegung und ausreichend Getränken i
 st ein Muss\, um die Energiereserven aufrechtzuerhalten. Und natürlich si
 nd witterungsangepasste Kleidung\, robuste Wanderschuhe und Sonnenschutz e
 ntscheidend für Komfort und Sicherheit unterwegs. Mit all diesen Vorberei
 tungen steht einem unbeschwerten Tag nichts im Wege!\n\n\n\nWandern plus: 
 &lt\;a href="https://www.flaticon.com/free-icons/hiking" title="hiking ico
 ns"&gt\;Hiking icons created by Made by Made Premium - Flaticon&lt\;/a&gt\
 ;\n\nTreffpunkt: 10.00 Uhr\, S-Bahnhof Vaihingen\, 70563 Stuttgart\n\nÖPN
 V: S-Bahn Linie S2 oder Stadtbahn-Linie U1 und U3\n\nDauer: bis ca. 18.00 
 Uhr\n\nStrecke: 20 km\n\nReine Gehzeit: 6\,5 Std.\n\nAuf- und Abstiege: 20
 0 m\n\nSchwierigkeitsgrad: mittel\n\nStreckenwanderung\n\nEinkehr: ist nic
 ht geplant\n\nTeilnehmerbeitrag: für Mitglieder kostenlos\, für Nichtmit
 glieder 10 €\nZur Info: Die anfallenden Kosten werden vom Wanderführer 
 vor Ort eingesammelt.\n\nZusätzliche Kosten: evtl. für ÖPNV\n\nAnmeldun
 g: hier\n\nKontakt: Tilman Kugler\, Theologe\, Pädagoge\, Wanderführer\n
 \nIn Kooperation mit dem Katholischen Bildungswerk
CATEGORIES:Wandern
LOCATION:Stadtbahn-Haltestelle Stuttgart-Vaihingen\, U-Bahnhof Vaihingen\, 
 Stuttgart-Vaihingen\, Deutschland
GEO:48.72628;9.11323
X-APPLE-STRUCTURED-LOCATION;VALUE=URI;X-ADDRESS=U-Bahnhof Vaihingen\, Stutt
 gart-Vaihingen\, Deutschland;X-APPLE-RADIUS=100;X-TITLE=Stadtbahn-Halteste
 lle Stuttgart-Vaihingen:geo:48.72628,9.11323
END:VEVENT
BEGIN:VTIMEZONE
TZID:Europe/Berlin
X-LIC-LOCATION:Europe/Berlin
BEGIN:DAYLIGHT
DTSTART:20260329T030000
TZOFFSETFROM:+0100
TZOFFSETTO:+0200
TZNAME:CEST
END:DAYLIGHT
END:VTIMEZONE
END:VCALENDAR