BEGIN:VCALENDAR
VERSION:2.0
PRODID:-//wp-events-plugin.com//5.99912//EN
TZID:Europe/Berlin
X-WR-TIMEZONE:Europe/Berlin
BEGIN:VEVENT
UID:6-11032@wandern.albverein.net
DTSTART;TZID=Europe/Berlin:20260613T130000
DTEND;TZID=Europe/Berlin:20260613T170000
DTSTAMP:20251022T113549Z
URL:https://wandern.albverein.net/events/wandern-plus-unterwegs-in-koenig-
 friedrichs-jagdrevier-2/
SUMMARY:Wandern +plus+: Unterwegs in König Friedrichs Jagdrevier - Wanderp
 arkplatz "Krappenberg" - 13 Juni 26 13:00
DESCRIPTION:\n\nIn den Wiesen\, Weiden und Wäldern des Strombergs ließ es
  sich Friedrich I. von Württemberg schon zu Beginn des 19. Jahrhunderts g
 ut gehen.Die Sommerresidenz bezog der Hofstaat im Schloss in Freudental un
 d die nahen Wälder wurden zum Schauplatz der adligen Jagdlust. Im Winkel 
 zwischen Bönnigheim und Freudental sind immer noch Zeugnisse der damalige
 n Zeit zu sehen. Auf dieser kleinen Rundwanderung über alte und neue Wege
  finden wir Echos der württembergischen Geschichte\, lernen Episoden von 
 Adel\, Jagd\, Waldnutzung und Siedlungsgeschichte kennen.\nMachen Sie sich
  mit Meike Junginger auf zur Spurensuche.\n\nEin gut gepackter Rucksack mi
 t Snacks und ausreichend Getränken ist ein Muss\, um die Energiereserven 
 aufrechtzuerhalten. Und natürlich sind witterungsangepasste Kleidung\, ro
 buste Wanderschuhe und Sonnenschutz entscheidend für Komfort und Sicherhe
 it unterwegs. Mit all diesen Vorbereitungen steht einer unbeschwerten Wand
 erung nichts im Wege!\nBitte beachten: Bei vorangegangenem Regenwetter kan
 n es lehmig\, matschig und deshalb rutschig sein. Abschnittsweise ist Trit
 tsicherheit erforderlich (eventuell Stöcke).\n\n\n\nTreffpunkt: 13.00 Uhr
 \, Wanderparkplatz "Krappenberg"\, an der L1106\, 74357 Bönnigheim\nGPS: 
 49.020177\, 9.065016\n\nÖPNV: leider nicht möglich\n\nDauer: bis ca.17.0
 0 Uhr\n\nStrecke: 8 km\n\nReine Gehzeit: 3 Std.\n\nAuf- und Abstiege: 120 
 m\n\nSchwierigkeitsgrad: leicht\n\nRundwanderung\n\nEinkehr:\n\nTeilnehmer
 beitrag: für Mitglieder kostenlos\, für Nichtmitglieder 10 €\nZur Info
 : Die anfallenden Kosten werden von der Wanderführerin vor Ort eingesamme
 lt.\n\nZusätzliche Kosten: fallen keine an\n\nAnmeldung: nicht erforderli
 ch\n\nKontakt: Meike Junginger\, meike.junginger@web.de
CATEGORIES:Wandern
LOCATION:Wanderparkplatz "Krappenberg"\, L 1106\, Bönnigheim\, 74357\, Deu
 tschland
GEO:49.020679;9.065106
X-APPLE-STRUCTURED-LOCATION;VALUE=URI;X-ADDRESS=L 1106\, Bönnigheim\, 7435
 7\, Deutschland;X-APPLE-RADIUS=100;X-TITLE=Wanderparkplatz \"Krappenberg\"
 :geo:49.020679,9.065106
END:VEVENT
BEGIN:VTIMEZONE
TZID:Europe/Berlin
X-LIC-LOCATION:Europe/Berlin
BEGIN:DAYLIGHT
DTSTART:20260329T030000
TZOFFSETFROM:+0100
TZOFFSETTO:+0200
TZNAME:CEST
END:DAYLIGHT
END:VTIMEZONE
END:VCALENDAR