BEGIN:VCALENDAR
VERSION:2.0
PRODID:-//wp-events-plugin.com//5.99912//EN
TZID:Europe/Berlin
X-WR-TIMEZONE:Europe/Berlin
BEGIN:VEVENT
UID:6-10991@wandern.albverein.net
DTSTART;TZID=Europe/Berlin:20260801T093000
DTEND;TZID=Europe/Berlin:20260801T163000
DTSTAMP:20251013T093135Z
URL:https://wandern.albverein.net/events/wandern-plus-zipfelbachtal-und-di
 e-hoehen-der-schwaebischen-alb/
SUMMARY:Wandern +plus+: Zipfelbachtal und die Höhen der Schwäbischen Alb 
 - Wanderparkplatz Stelle - 1 Aug. 26 09:30
DESCRIPTION:Bild\n\nDie Geschichte wie der Zipfel zu seinem Namen kam oder 
 vom Drachen von der Limburg sind frei erfunden. Alles andere auf der sport
 lichen Rundwanderung sind bleibende Eindrücke für die Augen\, Ohren und 
 Füße.\n\nDie Tour beginnt im urwaldähnlichen Gelände im Zipfelbachtal 
 das mit dem Durchwandern des Randecker Maares\, ein ehemalier Vulkanschlot
 \, seinen ersten Höhepunkt hat. Weiter auf den Spuren der UNIMOG-Teststre
 cke\, über Wacholderheide\, durch ein Höllenloch ist ebenso erlebenswert
 . Bei der Ziegelhütte werden wir uns durch die Rast stärken und erholen\
 , bevor es dann zu traumhaften Aussichten vom Breitenstein zur Teck\, den 
 Kaiserbergen und ins Albvorland geht. Der besondere Kick wird dann noch au
 f dem abenteuerlichen Abstieg zum Ausgangspunkt sein.\n\nEin gut gepackter
  Rucksack mit Verpflegung und ausreichend Getränken ist ein Muss\, um die
  Energiereserven aufrechtzuerhalten. Und natürlich sind witterungsangepas
 ste Kleidung\, robuste Wanderschuhe und Sonnenschutz entscheidend für Kom
 fort und Sicherheit unterwegs. Mit all diesen Vorbereitungen steht einem u
 nbeschwerten Tag nichts im Wege!\n\nBitte beachten:\nTrittsicherheit ist s
 ehr wichtig\, Wanderstöcke sehr empfehlenswert!\n\n\n\nTreffpunkt: 9.30 U
 hr\, Wanderparkplatz "Alte Steige"\, 73237 Weilheim-Hepsisau\n\nÖPNV: ist
  möglich bis Hepsisau Rathaus\, anschl. 100 m zu Fuß\n\nDauer: bis ca. 1
 6.30 Uhr\n\nStrecke: 16 km\n\nReine Gehzeit: 5 Std.\n\nAuf- und Abstiege: 
 500 m\n\nSchwierigkeitsgrad: mittel\n\nRundwanderung\n\nEinkehr: Mittagspa
 use im Freien am Hofladen\, dort können Ziegelhüttenkäse\, Getränke\, 
 Kaffe\, Kuchen und kleine Snacks gekauft werden.\n\nTeilnehmerbeitrag: fü
 r Mitglieder kostenlos\, für Nichtmitglieder 10 €\nZur Info: Die anfall
 enden Kosten werden vom Wanderführer vor Ort eingesammelt.\n\nZusätzlich
 e Kosten: fallen keine an\n\nAnmeldung: erforderlich bis zum 29. Juli 2026
 \, max. 25 Teilnehmer*innen\n\nKontakt: Werner Abbenzeller\, werner@abbenz
 eller.de
CATEGORIES:Wandern
LOCATION:Wanderparkplatz Stelle\, L1212\, Hepsisau\, Deutschland
GEO:48.583658;9.535092
X-APPLE-STRUCTURED-LOCATION;VALUE=URI;X-ADDRESS=L1212\, Hepsisau\, Deutschl
 and;X-APPLE-RADIUS=100;X-TITLE=Wanderparkplatz Stelle:geo:48.583658,9.5350
 92
END:VEVENT
BEGIN:VTIMEZONE
TZID:Europe/Berlin
X-LIC-LOCATION:Europe/Berlin
BEGIN:DAYLIGHT
DTSTART:20260329T030000
TZOFFSETFROM:+0100
TZOFFSETTO:+0200
TZNAME:CEST
END:DAYLIGHT
END:VTIMEZONE
END:VCALENDAR