BEGIN:VCALENDAR
VERSION:2.0
PRODID:-//wp-events-plugin.com//5.99912//EN
TZID:Europe/Berlin
X-WR-TIMEZONE:Europe/Berlin
BEGIN:VEVENT
UID:6-11033@wandern.albverein.net
DTSTART;TZID=Europe/Berlin:20260530T080000
DTEND;TZID=Europe/Berlin:20260530T200000
DTSTAMP:20260325T090607Z
URL:https://wandern.albverein.net/events/weitwandern-jetzt-wirds-lauter/
SUMMARY:Weitwandern: Jetzt wird's Lauter in Offenhausen - Bahnhof Offenhaus
 en - 30 Mai 26 08:00
DESCRIPTION:\n\nEine Marathon-Wanderung durch das große Lautertal mit eine
 r der höchsten Burgendichten in Deutschland und durch schöne Natur- und 
 Landschaftsschutzgebiete.\n\nWas haben die große Lauter und ein Marathon 
 gemeinsam?\nBeide sind 42 Kilometer Lang!\nSolltest du schon immer einmal 
 den Wunsch gehabt haben\, diese Distanz an einem Stück zu Fuß zu meister
 n oder einmal an deine Grenzen zu gehen\, dann ist diese Wanderung genau d
 as Richtige für dich.\nDie Tour beginnt morgens an der Lauterquelle in Of
 fenhausen und führt durch das wunderschöne Lautertal parallel zur Lauter
  zur Mündung in die Donau nach Lauterach.\n\nEin gut gepackter Rucksack m
 it Snacks und ausreichend Getränken ist ein Muss\, um die Energiereserven
  aufrechtzuerhalten. Und natürlich sind witterungsangepasste Kleidung\, r
 obuste Wanderschuhe und Sonnenschutz entscheidend für Komfort und Sicherh
 eit unterwegs. Mit all diesen Vorbereitungen steht einem unbeschwerten Tag
  nichts im Wege!\n\nBitte beachten: Körperliche Fitness und Ausdauer erfo
 rderlich.\nVesper und Rücktransport zum Ausgangspunkt sind im Preis\ninkl
 udiert.\n\n\n\nTreffpunkt: 8.00 Uhr\, Bahnhof Offenhausen\, 72532 Gomading
 en-Offenhausen\n\nÖPNV: mit RB 59\, Bus-Linie 7606 oder 5345 bis Bahnhof 
 Offenhausen\n\nDauer: bis ca. 20.00 Uhr\n\nStrecke: 42 km\n\nReine Gehzeit
 : 10 Std.\n\nAufstiege: 280 m\, Abstiege:440 m\n\nSchwierigkeitsgrad: ansp
 ruchsvoll\n\nStreckenwanderung\n\nEinkehr: leider nicht geplant\n\nTeilneh
 merbeitrag: für Mitglieder kostenlos\, für Nichtmitglieder 15 €\nZur I
 nfo: Die anfallenden Kosten werden vom Wanderführer vor Ort eingesammelt.
 \n\nZusätzliche Kosten: fallen keine an\n\nAnmeldung: erforderlich bis zu
 m 23. Mai 2026\, max. 10 Teilnehmer\n\nKontakt: Peter Buchmann\, 0176 5502
 5388\, peter.buchmann@schwaebische-albvereinsjugend.de\n\n&nbsp\;
CATEGORIES:Wandern
LOCATION:Bahnhof Offenhausen\, NN\, Gomadingen-Offenhausen\, 72532\, Deutsc
 hland
GEO:48.399598;9.370186
X-APPLE-STRUCTURED-LOCATION;VALUE=URI;X-ADDRESS=NN\, Gomadingen-Offenhausen
 \, 72532\, Deutschland;X-APPLE-RADIUS=100;X-TITLE=Bahnhof Offenhausen:geo:
 48.399598,9.370186
END:VEVENT
BEGIN:VTIMEZONE
TZID:Europe/Berlin
X-LIC-LOCATION:Europe/Berlin
BEGIN:DAYLIGHT
DTSTART:20260329T030000
TZOFFSETFROM:+0100
TZOFFSETTO:+0200
TZNAME:CEST
END:DAYLIGHT
END:VTIMEZONE
END:VCALENDAR