BEGIN:VCALENDAR
VERSION:2.0
PRODID:-//wp-events-plugin.com//5.99912//EN
TZID:Europe/Berlin
X-WR-TIMEZONE:Europe/Berlin
BEGIN:VEVENT
UID:6-11140@wandern.albverein.net
DTSTART;TZID=Europe/Berlin:20260801T080000
DTEND;TZID=Europe/Berlin:20260801T190000
DTSTAMP:20260116T124122Z
URL:https://wandern.albverein.net/events/weitwandern-mit-dem-hw7-auf-die-a
 lb-zum-filsursprung/
SUMMARY:Weitwandern: HW7 Boßler - Wiesensteig: Auf die Alb zum Filsursprun
 g - Bushaltestelle Ev. Akademie / Reha-Klinik Bad Boll - 1 Aug. 26 08:00
DESCRIPTION:\n\nAb Bad Boll geht es die Albkannte empor zum Boßler mit sei
 ner schönen Aussicht und besonderen Geschichte\, weiter über das Grübin
 ger Wiesle\, das schon aus der Ferne erkennbar ist zum Häringer Mast mit 
 seiner bekannten Aussicht. Über die Bläsihöfe und die Kreuzkapelle erre
 ichen wir Wießensteig und das Filstal. Ab dem Filsursprung führt die Wan
 derung über Grübingen zurück nach Bad Boll.\n\nEin gut gepackter Rucksa
 ck mit Verpflegung und ausreichend Getränken ist ein Muss\, um die Energi
 ereserven aufrechtzuerhalten. Und natürlich sind witterungsangepasste Kle
 idung\, robuste Wanderschuhe und Sonnenschutz entscheidend für Komfort un
 d Sicherheit unterwegs.Wanderstöcke können hilfreich sein.\nMit all dies
 en Vorbereitungen steht einem unbeschwerten Tag nichts im Wege!\n\n\n\nTre
 ffpunkt: 8.00 Uhr\, Bus-Haltestelle Ev. Akademie / Reha-Klinik\, Am Kurpar
 k\,\n73087 Bad Boll\n\nÖPNV: mit Bus Linien 920\, 920A und 924\n\nDauer: 
 bis ca. 19.00 Uhr\n\nStrecke: 35 km\n\nReine Gehzeit: 8 3/4 Std.\n\nAuf- u
 nd Abstiege: 840 m\n\nSchwierigkeitsgrad: anspruchsvoll\n\nRundwanderung\n
 \nEinkehr: ist nicht vorgesehen\n\nTeilnehmerbeitrag: für Mitglieder kost
 enlos\, für Nichtmitglieder 15 €\nZur Info: Die anfallenden Kosten werd
 en vom Wanderführer vor Ort eingesammelt.\n\nZusätzliche Kosten: fallen 
 keine an\n\nAnmeldung: nicht erforderlich\n\nKontakt: Bernd Haller\, gps@h
 aller-web.de
CATEGORIES:Wandern
LOCATION:Bushaltestelle Ev. Akademie / Reha-Klinik Bad Boll\, Am Kurpark\, 
 Bad Boll\, 73087\, Deutschland
GEO:48.640084;9.600403
X-APPLE-STRUCTURED-LOCATION;VALUE=URI;X-ADDRESS=Am Kurpark\, Bad Boll\, 730
 87\, Deutschland;X-APPLE-RADIUS=100;X-TITLE=Bushaltestelle Ev. Akademie / 
 Reha-Klinik Bad Boll:geo:48.640084,9.600403
END:VEVENT
BEGIN:VTIMEZONE
TZID:Europe/Berlin
X-LIC-LOCATION:Europe/Berlin
BEGIN:DAYLIGHT
DTSTART:20260329T030000
TZOFFSETFROM:+0100
TZOFFSETTO:+0200
TZNAME:CEST
END:DAYLIGHT
END:VTIMEZONE
END:VCALENDAR