BEGIN:VCALENDAR
VERSION:2.0
PRODID:-//wp-events-plugin.com//5.99912//EN
TZID:Europe/Berlin
X-WR-TIMEZONE:Europe/Berlin
BEGIN:VEVENT
UID:6-10937@wandern.albverein.net
DTSTART;TZID=Europe/Berlin:20260613T060000
DTEND;TZID=Europe/Berlin:20260613T220000
DTSTAMP:20251020T064516Z
URL:https://wandern.albverein.net/events/weitwandern-rund-um-kirchheim-ueb
 er-die-limburg/
SUMMARY:Weitwandern: Rund um Kirchheim über die Limburg - Bahnhof Owen - 1
 3 Juni 26 06:00
DESCRIPTION: \n\nBahnhofparkplatz\, Maienwasen\, Tiefenbach\, Käppele\, M
 annsperger See\, Bürgerseen\, Rübholz Lindorf\, Ötlinger Halde\, Waldfr
 iedhof Kirchheim\, Ohmden\, Holzmaden\, Weilheim\, Limburg\, Bissingen\, H
 örnle\, Owen\, Bahnhofparkplatz\n\nEin gut gepackter Rucksack mit Verpfle
 gung und ausreichend Getränken ist ein Muss\, um die Energiereserven aufr
 echtzuerhalten. Und natürlich sind witterungsangepasste Kleidung\, robust
 e Wanderschuhe und Sonnenschutz entscheidend für Komfort und Sicherheit u
 nterwegs. Mit all diesen Vorbereitungen steht einem unbeschwerten Tag nich
 ts im Wege!\n\n\n\nTreffpunkt: 6.00 Uhr\, Bahnhof Owen\, 73277 Owen\n\nÖP
 NV: mit der Bahn\n\nDauer: bis ca. 22.00 Uhr\n\nStrecke: 45 km\n\nReine Ge
 hzeit: 13 Std.\n\nAuf- und Abstiege: 890 m\n\nSchwierigkeitsgrad: anspruch
 svoll\n\nRundwanderung\n\nEinkehr: möglich im Kiosk Bürgerseen\, Waldhei
 m Kirchheim und/oder im Gwölble Owen\n\nTeilnehmerbeitrag: für Mitgliede
 r kostenlos\, für Nichtmitglieder 15 €\nZur Info: Die anfallenden Koste
 n werden vom Wanderführer vor Ort eingesammelt.\n\nZusätzliche Kosten: f
 allen keine an\n\nAnmeldung: erforderlich bis zum 10. Juni 2026\n\nKontakt
 : Dieter Bounin\, ichhabe@lustaufteck.de
CATEGORIES:Wandern
LOCATION:Bahnhof Owen\, Bahnhof\, Owen\, 73277\, Deutschland
GEO:48.58692407897895;9.447970462951616
X-APPLE-STRUCTURED-LOCATION;VALUE=URI;X-ADDRESS=Bahnhof\, Owen\, 73277\, De
 utschland;X-APPLE-RADIUS=100;X-TITLE=Bahnhof Owen:geo:48.58692407897895,9.
 447970462951616
END:VEVENT
BEGIN:VTIMEZONE
TZID:Europe/Berlin
X-LIC-LOCATION:Europe/Berlin
BEGIN:DAYLIGHT
DTSTART:20260329T030000
TZOFFSETFROM:+0100
TZOFFSETTO:+0200
TZNAME:CEST
END:DAYLIGHT
END:VTIMEZONE
END:VCALENDAR