BEGIN:VCALENDAR
VERSION:2.0
PRODID:-//wp-events-plugin.com//5.99912//EN
TZID:Europe/Berlin
X-WR-TIMEZONE:Europe/Berlin
BEGIN:VEVENT
UID:6-11139@wandern.albverein.net
DTSTART;TZID=Europe/Berlin:20260920T083000
DTEND;TZID=Europe/Berlin:20260920T180000
DTSTAMP:20251112T142625Z
URL:https://wandern.albverein.net/events/weitwandern-ueber-die-buehlerquel
 le-zum-altenberg/
SUMMARY:Weitwandern: Über die Bühlerquelle zum Altenberg - Parkplatz Rudo
 lph-Mühleck-Halle - 20 Sep. 26 08:30
DESCRIPTION:\n\nDas Bühlertal ist ein – wenig bekanntes - Paradies für 
 Wanderer\, im äußersten Nordosten Baden-Württembergs. Dieser Nebenfluss
  des Kochers schlengelt sich naturbelassen durch abwechslungsreiche Landsc
 haften.\n\nDieser Tag führt uns durch den oberen Teil des Bühlertals. Vo
 n Bühlerzell aus\, geht es flußaufwärts bis zur Bühlerquelle\, dem Ber
 roth-Brunnen bei Pommertsweiler im Ostalbkreis. Über den Büchelberger Gr
 at\, der links steil ins Kochertal abfällt ist der Alternberg nach einige
 n Kilometern erreicht. Der Aussichtsturm auf dem 564 m hohen Altenberg bie
 tet bei gutem Wetter ein beeindruckende Rundumsicht.\nIn der nahegelegenen
  Jausenstation Altenberg gibt es im gemütlichen Biergarten eine wohlverdi
 ente Einkehrpause. Etwas erinnert der Blick von der Terasse aus ans Allgä
 u. Das letzte Drittel des Weges zurück über den Panoramaweg nach Bühler
 zell belohnt uns mit schönen Fernblicken.\n\nEin gut gepackter Rucksack m
 it Verpflegung und ausreichend Getränken ist ein Muss\, um die Energieres
 erven aufrechtzuerhalten. Und natürlich sind witterungsangepasste Kleidun
 g\, robuste Wanderschuhe und Sonnenschutz entscheidend für Komfort und Si
 cherheit unterwegs. Mit all diesen Vorbereitungen steht einem unbeschwerte
 n Tag nichts im Wege!\n\n\n\nTreffpunkt: 8.30 Uhr\, Parkplatz Rudolph-Müh
 leck-Halle\, Wolfsgrabenstraße 4\,\n74426 Bühlerzell\n\nÖPNV: mit Bus L
 inie 12 oder 12B ab Schwäbisch Hall bis Bühlerzell Haltestelle St.-Josef
 s-Heim\n\nDauer: bis ca. 18.00 Uhr\n\nStrecke: 35 km\n\nReine Gehzeit: 7\,
 5 Std.\n\nAuf- und Abstiege: 650 m\n\nSchwierigkeitsgrad: anspruchsvoll\n\
 nRundwanderung\n\nEinkehr: in der Jausenstation Altenberg in Sulzbach-Lauf
 en\n\nTeilnehmerbeitrag: für Mitglieder kostenlos\, für Nichtmitglieder 
 15 €\nZur Info: Die anfallenden Kosten werden von der Wanderführerin vo
 r Ort eingesammelt.\n\nZusätzliche Kosten: fallen keine an\n\nAnmeldung: 
 erforderlich bis zum 5. September 2026\, max. 15 Teilnehmer\n\nKontakt: Di
 ana Giehl\, 0172 7972890\, diana.wanderbegleiterin@gmx.de
CATEGORIES:Wandern
LOCATION:Parkplatz Rudolph-Mühleck-Halle\, Wolfsgrabenstraße 4\, Bühlerz
 ell\, 74426\, Deutschland
GEO:49.001958;9.920771
X-APPLE-STRUCTURED-LOCATION;VALUE=URI;X-ADDRESS=Wolfsgrabenstraße 4\, Büh
 lerzell\, 74426\, Deutschland;X-APPLE-RADIUS=100;X-TITLE=Parkplatz Rudolph
 -Mühleck-Halle:geo:49.001958,9.920771
END:VEVENT
BEGIN:VTIMEZONE
TZID:Europe/Berlin
X-LIC-LOCATION:Europe/Berlin
BEGIN:DAYLIGHT
DTSTART:20260329T030000
TZOFFSETFROM:+0100
TZOFFSETTO:+0200
TZNAME:CEST
END:DAYLIGHT
END:VTIMEZONE
END:VCALENDAR