BEGIN:VCALENDAR
VERSION:2.0
PRODID:-//wp-events-plugin.com//5.99912//EN
TZID:Europe/Berlin
X-WR-TIMEZONE:Europe/Berlin
BEGIN:VEVENT
UID:6-11148@wandern.albverein.net
DTSTART;TZID=Europe/Berlin:20261010T064500
DTEND;TZID=Europe/Berlin:20261010T170000
DTSTAMP:20251119T094210Z
URL:https://wandern.albverein.net/events/weitwandern-von-geislingen-nach-g
 muend/
SUMMARY:Weitwandern: von Geislingen nach Gmünd - Bahnhof Schwäbisch Gmün
 d - 10 Okt. 26 06:45
DESCRIPTION:Bild\n\nText\n\nEin gut gepackter Rucksack mit Verpflegung und 
 ausreichend Getränken ist ein Muss\, um die Energiereserven aufrechtzuerh
 alten. Und natürlich sind witterungsangepasste Kleidung\, robuste Wanders
 chuhe und Sonnenschutz entscheidend für Komfort und Sicherheit unterwegs.
  Mit all diesen Vorbereitungen steht einem unbeschwerten Tag nichts im Weg
 e!\n\n\n\nTreffpunkt: 6.45 Uhr\, Bahnhof Schwäbisch Gmünd\, Bahnhofsplat
 z 6\,\n73525 Schwäbisch Gmünd\, dann Zugfahrt nach Geislingen\n\nÖPNV: 
 mit DB\n\nDauer: bis ca. 17.00 Uhr\n\nStrecke: 32 km\n\nReine Gehzeit: 9\,
 5 Std.\n\nAuf- und Abstiege: 800 m\n\nSchwierigkeitsgrad: anspruchsvoll\n\
 nStreckenwanderung\n\nEinkehr: ist nicht geplant\n\nTeilnehmerbeitrag: fü
 r Mitglieder kostenlos\, für Nichtmitglieder 15 €\nZur Info: Die anfall
 enden Kosten werden vom Wanderführer vor Ort eingesammelt.\n\nZusätzlich
 e Kosten: fallen keine an\n\nAnmeldung: erforderlich bis zum 7. Oktober 20
 26\n\nKontakt: Joachim Wagner\, j.o.g.g.i@gmx.de
CATEGORIES:Wandern
LOCATION:Bahnhof Schwäbisch Gmünd\, Bahnhofsplatz 6\, Schwäbisch Gmünd\
 , Deutschland
GEO:48.799402;9.80457
X-APPLE-STRUCTURED-LOCATION;VALUE=URI;X-ADDRESS=Bahnhofsplatz 6\, Schwäbis
 ch Gmünd\, Deutschland;X-APPLE-RADIUS=100;X-TITLE=Bahnhof Schwäbisch Gm
 ünd:geo:48.799402,9.80457
END:VEVENT
BEGIN:VTIMEZONE
TZID:Europe/Berlin
X-LIC-LOCATION:Europe/Berlin
BEGIN:DAYLIGHT
DTSTART:20260329T030000
TZOFFSETFROM:+0100
TZOFFSETTO:+0200
TZNAME:CEST
END:DAYLIGHT
END:VTIMEZONE
END:VCALENDAR